BEGIN:VCALENDAR
VERSION:2.0
PRODID:-//christusgemeinden.de//NONSGML kigkonsult.se iCalcreator 2.41.92//
CALSCALE:GREGORIAN
METHOD:PUBLISH
UID:38366636-3238-4666-b336-626236656531
X-WR-TIMEZONE:Europe/Berlin
X-LIC-LOCATION:Europe/Berlin
BEGIN:VTIMEZONE
TZID:Europe/Berlin
BEGIN:DAYLIGHT
TZOFFSETFROM:+0100
TZOFFSETTO:+0200
TZNAME:CEST
DTSTART:19700329T020000
RRULE:FREQ=YEARLY;BYDAY=-1SU;BYMONTH=3
END:DAYLIGHT
BEGIN:STANDARD
TZOFFSETFROM:+0200
TZOFFSETTO:+0100
TZNAME:CET
DTSTART:19701025T030000
RRULE:FREQ=YEARLY;BYDAY=-1SU;BYMONTH=10
END:STANDARD
END:VTIMEZONE
BEGIN:VEVENT
UID:33613661-6531-4039-b433-323237353138
DTSTAMP:20260421T172922Z
DESCRIPTION:'Die Leiden des jungen Werther' von Johann Wolfgang von Goethe 
 Leitung: Gudrun Reiß Sekretariat Evangelische Erwachsenenbildung: Telefon 
 0721/167-1201\n \n Veranstaltungsort:\n Gemeindehaus Am Zwinger 5\n Am Zwi
 nger 5\n Karlsruhe-Durlach\n \n Veranstalter:\n junge alte\n Karlsruhe\n h
 ttps://www.jungealte.info
DTSTART;TZID=Europe/Berlin:20260511T150000
DTEND;TZID=Europe/Berlin:20260511T170000
LOCATION:Gemeindehaus Am Zwinger 5\n - Am Zwinger 5\n - Karlsruhe-Durlach
SUMMARY:Literaturcafé - Johann Wolfgang von Goethe - Die Leiden des jungen 
 Werther
X-ALT-DESC;FMTTYPE=text/html:'Die Leiden des jungen Werther' von Johann Wol
 fgang von Goethe\n \n Leitung: Gudrun Reiß\n \n Sekretariat Evangelische E
 rwachsenenbildung: Telefon 0721/167-1201<br /><br />Veranstaltungsort: <br
  />Gemeindehaus Am Zwinger 5<br />Am Zwinger 5<br />Karlsruhe-Durlach<br /
 ><br />Veranstalter: <br />junge alte<br />Karlsruhe<br />https://www.jung
 ealte.info
END:VEVENT
END:VCALENDAR
