BEGIN:VCALENDAR
VERSION:2.0
PRODID:-//christusgemeinden.de//NONSGML kigkonsult.se iCalcreator 2.41.92//
CALSCALE:GREGORIAN
METHOD:PUBLISH
UID:31306262-6662-4435-b033-393862313562
X-WR-TIMEZONE:Europe/Berlin
X-LIC-LOCATION:Europe/Berlin
BEGIN:VTIMEZONE
TZID:Europe/Berlin
BEGIN:DAYLIGHT
TZOFFSETFROM:+0100
TZOFFSETTO:+0200
TZNAME:CEST
DTSTART:19700329T020000
RRULE:FREQ=YEARLY;BYDAY=-1SU;BYMONTH=3
END:DAYLIGHT
BEGIN:STANDARD
TZOFFSETFROM:+0200
TZOFFSETTO:+0100
TZNAME:CET
DTSTART:19701025T030000
RRULE:FREQ=YEARLY;BYDAY=-1SU;BYMONTH=10
END:STANDARD
END:VTIMEZONE
BEGIN:VEVENT
UID:61366663-3364-4263-a639-636133386131
DTSTAMP:20260422T044015Z
DESCRIPTION:Singen macht Spaß - in jedem Alter!\n \n Veranstaltungsort:\n G
 emeindehaus Am Zwinger 5\n Am Zwinger 5\n Karlsruhe-Durlach\n \n Veranstal
 ter:\n junge alte\n Karlsruhe\n https://www.jungealte.info
DTSTART;TZID=Europe/Berlin:20260618T163000
DTEND;TZID=Europe/Berlin:20260618T173000
LOCATION:Gemeindehaus Am Zwinger 5\n - Am Zwinger 5\n - Karlsruhe-Durlach
SUMMARY:Singen mit Gisbert - alte Schlager und mehr...
X-ALT-DESC;FMTTYPE=text/html:Singen macht Spaß - in jedem Alter!<br /><br /
 >Veranstaltungsort: <br />Gemeindehaus Am Zwinger 5<br />Am Zwinger 5<br /
 >Karlsruhe-Durlach<br /><br />Veranstalter: <br />junge alte<br />Karlsruh
 e<br />https://www.jungealte.info
END:VEVENT
END:VCALENDAR
