BEGIN:VCALENDAR
VERSION:2.0
PRODID:-//christusgemeinden.de//NONSGML kigkonsult.se iCalcreator 2.41.92//
CALSCALE:GREGORIAN
METHOD:PUBLISH
UID:63346538-3563-4338-a230-346463393635
X-WR-TIMEZONE:Europe/Berlin
X-LIC-LOCATION:Europe/Berlin
BEGIN:VTIMEZONE
TZID:Europe/Berlin
BEGIN:DAYLIGHT
TZOFFSETFROM:+0100
TZOFFSETTO:+0200
TZNAME:CEST
DTSTART:19700329T020000
RRULE:FREQ=YEARLY;BYDAY=-1SU;BYMONTH=3
END:DAYLIGHT
BEGIN:STANDARD
TZOFFSETFROM:+0200
TZOFFSETTO:+0100
TZNAME:CET
DTSTART:19701025T030000
RRULE:FREQ=YEARLY;BYDAY=-1SU;BYMONTH=10
END:STANDARD
END:VTIMEZONE
BEGIN:VEVENT
UID:61303931-6539-4332-a539-343137643665
DTSTAMP:20260422T013936Z
DESCRIPTION:Die Wiener Klassik in Wort und Musik\n \n Online zugang In eine
 m beschwingten Vortrag stellen uns zwei herausragende Musikerinnen\, Jaleh
  Perego an der Violine und Sarah Pavlovic am Klavier\, die Musik- und Kuns
 twelt der Wiener Klassik vor - mit Werken\, Geschichten\, Anekdoten … und 
 viel\, viel Musik. Lassen Sie sich entführen und verführen zu einem Bummel
  durch die klingende Welt Wiens\, die ihren Zauber bis heute zu entfalten 
 weiß. Referentinnen: Jaleh Perego (Violine)\, Sarah Pavlovic (Klavier)\n 
 \n Veranstaltungsort:\n Hybrid: Online und Gemeindehaus Durlach\n Am Zwing
 er 5\n 76227 Karlsruhe-Durlach\n \n Veranstalter:\n junge alte\n Karlsruhe
 \n https://www.jungealte.info
DTSTART;TZID=Europe/Berlin:20260715T100000
DTEND;TZID=Europe/Berlin:20260715T113000
LOCATION:Hybrid: Online und Gemeindehaus Durlach\n - Am Zwinger 5\n - 76227
  Karlsruhe-Durlach
SUMMARY:„Die Straßen Wiens sind mit Kultur gepflastert. Die Straßen anderer
  Städte mit Asphalt.“ (Karl Kraus)
X-ALT-DESC;FMTTYPE=text/html:Die Wiener Klassik in Wort und Musik<br /><br 
 />Online zugang\n \n \n \n \n In einem beschwingten Vortrag stellen uns zw
 ei herausragende Musikerinnen\, Jaleh Perego an der Violine und Sarah Pavl
 ovic am Klavier\, die Musik- und Kunstwelt der Wiener Klassik vor - mit We
 rken\, Geschichten\, Anekdoten … und viel\, viel Musik.\n Lassen Sie sich 
 entführen und verführen zu einem Bummel durch die klingende Welt Wiens\, d
 ie ihren Zauber bis heute zu entfalten weiß.\n \n Referentinnen: Jaleh Per
 ego (Violine)\, Sarah Pavlovic (Klavier)<br /><br />Veranstaltungsort: <br
  />Hybrid: Online und Gemeindehaus Durlach<br />Am Zwinger 5<br />76227 Ka
 rlsruhe-Durlach<br /><br />Veranstalter: <br />junge alte<br />Karlsruhe<b
 r />https://www.jungealte.info
END:VEVENT
END:VCALENDAR
