BEGIN:VCALENDAR
VERSION:2.0
PRODID:-//christusgemeinden.de//NONSGML kigkonsult.se iCalcreator 2.41.92//
CALSCALE:GREGORIAN
METHOD:PUBLISH
UID:38613437-3336-4330-a535-386531373937
X-WR-TIMEZONE:Europe/Berlin
X-LIC-LOCATION:Europe/Berlin
BEGIN:VTIMEZONE
TZID:Europe/Berlin
BEGIN:DAYLIGHT
TZOFFSETFROM:+0100
TZOFFSETTO:+0200
TZNAME:CEST
DTSTART:19700329T020000
RRULE:FREQ=YEARLY;BYDAY=-1SU;BYMONTH=3
END:DAYLIGHT
BEGIN:STANDARD
TZOFFSETFROM:+0200
TZOFFSETTO:+0100
TZNAME:CET
DTSTART:19701025T030000
RRULE:FREQ=YEARLY;BYDAY=-1SU;BYMONTH=10
END:STANDARD
END:VTIMEZONE
BEGIN:VEVENT
UID:38326236-3265-4361-a631-636636313730
DTSTAMP:20260421T221655Z
DESCRIPTION:Künstliche Intelligenz und die Zukunft des Schreibens und Lesen
 s\n \n Online zugang Dass künstliche Intelligenz an der Entstehung von lit
 erarischen Texten beteiligt ist\, ist keine Zukunftsvision mehr\, sondern 
 längst eine Tatsache. Aber wie verändert sich Literatur\, wenn Maschinen s
 chreiben? Der Vortrag bietet Einblicke in die aktuelle Forschung zur Künst
 lichen Intelligenz in der Literatur\, präsentiert Streitfragen und Textbei
 spiele und beleuchtet\, wie tiefgreifend künstliche Intelligenz das litera
 rische Feld herausfordert. Referentin: Dr. Daniela Matz\, Deutschdidaktike
 rin und Habilitandin an der Universität Tübingen\n \n Veranstaltungsort:\n
  Hybrid: Online und Gemeindehaus Durlach\n Am Zwinger 5\n 76227 Karlsruhe-
 Durlach\n \n Veranstalter:\n junge alte\n Karlsruhe\n https://www.jungealt
 e.info
DTSTART;TZID=Europe/Berlin:20260708T100000
DTEND;TZID=Europe/Berlin:20260708T113000
LOCATION:Hybrid: Online und Gemeindehaus Durlach\n - Am Zwinger 5\n - 76227
  Karlsruhe-Durlach
SUMMARY:Wenn Maschinen zu Poeten werden
X-ALT-DESC;FMTTYPE=text/html:Künstliche Intelligenz und die Zukunft des Sch
 reibens und Lesens<br /><br />Online zugang\n \n \n \n \n Dass künstliche 
 Intelligenz an der Entstehung von literarischen Texten beteiligt ist\, ist
  keine Zukunftsvision mehr\, sondern längst eine Tatsache. Aber wie veränd
 ert sich Literatur\, wenn Maschinen schreiben?\n Der Vortrag bietet Einbli
 cke in die aktuelle Forschung zur Künstlichen Intelligenz in der Literatur
 \, präsentiert Streitfragen und Textbeispiele und beleuchtet\, wie tiefgre
 ifend künstliche Intelligenz das literarische Feld herausfordert.\n \n Ref
 erentin: Dr. Daniela Matz\, Deutschdidaktikerin und Habilitandin an der Un
 iversität Tübingen<br /><br />Veranstaltungsort: <br />Hybrid: Online und 
 Gemeindehaus Durlach<br />Am Zwinger 5<br />76227 Karlsruhe-Durlach<br /><
 br />Veranstalter: <br />junge alte<br />Karlsruhe<br />https://www.jungea
 lte.info
END:VEVENT
END:VCALENDAR
