BEGIN:VCALENDAR
VERSION:2.0
PRODID:-//christusgemeinden.de//NONSGML kigkonsult.se iCalcreator 2.41.92//
CALSCALE:GREGORIAN
METHOD:PUBLISH
UID:37343534-6565-4730-a430-363939646164
X-WR-TIMEZONE:Europe/Berlin
X-LIC-LOCATION:Europe/Berlin
BEGIN:VTIMEZONE
TZID:Europe/Berlin
BEGIN:DAYLIGHT
TZOFFSETFROM:+0100
TZOFFSETTO:+0200
TZNAME:CEST
DTSTART:19700329T020000
RRULE:FREQ=YEARLY;BYDAY=-1SU;BYMONTH=3
END:DAYLIGHT
BEGIN:STANDARD
TZOFFSETFROM:+0200
TZOFFSETTO:+0100
TZNAME:CET
DTSTART:19701025T030000
RRULE:FREQ=YEARLY;BYDAY=-1SU;BYMONTH=10
END:STANDARD
END:VTIMEZONE
BEGIN:VEVENT
UID:39623334-3439-4863-b238-383834616636
DTSTAMP:20260421T235659Z
DESCRIPTION:Impressionen – Claude Monets malerisches Werk und sein Garten i
 n Giverny\n \n Online zugang „Ich bin ganz verzaubert\, Giverny ist für mi
 ch ein herrliches Land.“ Der Vortrag stellt Ihnen - begleitet von fotograf
 ischen Impressionen aus Monets Garten - diese Werke des französischen Impr
 essionisten vor. Referentin: Anette Ochsenwadel\, Kunsthistorikerin und Li
 teraturwissenschaftlerin\n \n Veranstaltungsort:\n Hybrid: Online und Geme
 indehaus Durlach\n Am Zwinger 5\n 76227 Karlsruhe-Durlach\n \n Veranstalte
 r:\n junge alte\n Karlsruhe\n https://www.jungealte.info
DTSTART;TZID=Europe/Berlin:20260702T100000
DTEND;TZID=Europe/Berlin:20260702T113000
LOCATION:Hybrid: Online und Gemeindehaus Durlach\n - Am Zwinger 5\n - 76227
  Karlsruhe-Durlach
SUMMARY:Und immer wieder Seerosen
X-ALT-DESC;FMTTYPE=text/html:Impressionen – Claude Monets malerisches Werk 
 und sein Garten in Giverny<br /><br />Online zugang\n \n \n \n \n „Ich bin
  ganz verzaubert\, Giverny ist für mich ein herrliches Land.“\n Der Vortra
 g stellt Ihnen - begleitet von fotografischen Impressionen aus Monets Gart
 en - diese Werke des französischen Impressionisten vor.\n \n Referentin: A
 nette Ochsenwadel\, Kunsthistorikerin und Literaturwissenschaftlerin<br />
 <br />Veranstaltungsort: <br />Hybrid: Online und Gemeindehaus Durlach<br 
 />Am Zwinger 5<br />76227 Karlsruhe-Durlach<br /><br />Veranstalter: <br /
 >junge alte<br />Karlsruhe<br />https://www.jungealte.info
END:VEVENT
END:VCALENDAR
