BEGIN:VCALENDAR
VERSION:2.0
PRODID:-//christusgemeinden.de//NONSGML kigkonsult.se iCalcreator 2.41.92//
CALSCALE:GREGORIAN
METHOD:PUBLISH
UID:31353435-6131-4630-a262-623861623732
X-WR-TIMEZONE:Europe/Berlin
X-LIC-LOCATION:Europe/Berlin
BEGIN:VTIMEZONE
TZID:Europe/Berlin
BEGIN:DAYLIGHT
TZOFFSETFROM:+0100
TZOFFSETTO:+0200
TZNAME:CEST
DTSTART:19700329T020000
RRULE:FREQ=YEARLY;BYDAY=-1SU;BYMONTH=3
END:DAYLIGHT
BEGIN:STANDARD
TZOFFSETFROM:+0200
TZOFFSETTO:+0100
TZNAME:CET
DTSTART:19701025T030000
RRULE:FREQ=YEARLY;BYDAY=-1SU;BYMONTH=10
END:STANDARD
END:VTIMEZONE
BEGIN:VEVENT
UID:32376663-3066-4930-a535-303632346363
DTSTAMP:20260422T105809Z
DESCRIPTION:Online zugang „Revolution für Anfänger*innen“\, so hieß eine vi
 elbeachtete Ausstellung des Badischen Landesmuseums in Karlsruhe. Die Refe
 rentin stellt uns in einem lebendigen Vortrag anhand vieler Bildmaterialie
 n das Phänomen dieser politischen Umwälzungen vor. Referentin: Eva Unterbu
 rg M.A.\, Kunsthistorikerin und Kulturvermittlerin am Badischen Landesmuse
 um\n \n Veranstaltungsort:\n Hybrid: Online und Gemeindehaus Durlach\n Am 
 Zwinger 5\n 76227 Karlsruhe-Durlach\n \n Veranstalter:\n junge alte\n Karl
 sruhe\n https://www.jungealte.info
DTSTART;TZID=Europe/Berlin:20260624T100000
DTEND;TZID=Europe/Berlin:20260624T113000
LOCATION:Hybrid: Online und Gemeindehaus Durlach\n - Am Zwinger 5\n - 76227
  Karlsruhe-Durlach
SUMMARY:„Revolution für Anfänger*innen“
X-ALT-DESC;FMTTYPE=text/html:Online zugang\n \n \n \n \n „Revolution für An
 fänger*innen“\, so hieß eine vielbeachtete Ausstellung des Badischen Lande
 smuseums in Karlsruhe. Die Referentin stellt uns in einem lebendigen Vortr
 ag anhand vieler Bildmaterialien das Phänomen dieser politischen Umwälzung
 en vor.\n \n Referentin: Eva Unterburg M.A.\, Kunsthistorikerin und Kultur
 vermittlerin am Badischen Landesmuseum<br /><br />Veranstaltungsort: <br /
 >Hybrid: Online und Gemeindehaus Durlach<br />Am Zwinger 5<br />76227 Karl
 sruhe-Durlach<br /><br />Veranstalter: <br />junge alte<br />Karlsruhe<br 
 />https://www.jungealte.info
END:VEVENT
END:VCALENDAR
