BEGIN:VCALENDAR
VERSION:2.0
PRODID:-//christusgemeinden.de//NONSGML kigkonsult.se iCalcreator 2.41.92//
CALSCALE:GREGORIAN
METHOD:PUBLISH
UID:32626562-3964-4165-b035-376631363665
X-WR-TIMEZONE:Europe/Berlin
X-LIC-LOCATION:Europe/Berlin
BEGIN:VTIMEZONE
TZID:Europe/Berlin
BEGIN:DAYLIGHT
TZOFFSETFROM:+0100
TZOFFSETTO:+0200
TZNAME:CEST
DTSTART:19700329T020000
RRULE:FREQ=YEARLY;BYDAY=-1SU;BYMONTH=3
END:DAYLIGHT
BEGIN:STANDARD
TZOFFSETFROM:+0200
TZOFFSETTO:+0100
TZNAME:CET
DTSTART:19701025T030000
RRULE:FREQ=YEARLY;BYDAY=-1SU;BYMONTH=10
END:STANDARD
END:VTIMEZONE
BEGIN:VEVENT
UID:35333234-3566-4464-b563-643536656462
DTSTAMP:20260422T145436Z
DESCRIPTION:Online zugang Die Lieder Paul Gerhardts sind Klassiker. Über Ja
 hrhunderte hinweg erbauen sie die Herzen von Menschen. Viele wissen aber n
 icht\, dass sich der Dichter dieser Lieder seine lutherischen Überzeugunge
 n einiges kosten ließ. Referent: Prof. Dr. Alexander Bitzel\, Gemeindepfar
 rer in Frankfurt a.M.\, Professor für Kirchengeschichte\n \n Veranstaltung
 sort:\n Hybrid: Online und Gemeindehaus Durlach\n Am Zwinger 5\n 76227 Kar
 lsruhe-Durlach\n \n Veranstalter:\n junge alte\n Karlsruhe\n https://www.j
 ungealte.info
DTSTART;TZID=Europe/Berlin:20260617T100000
DTEND;TZID=Europe/Berlin:20260617T113000
LOCATION:Hybrid: Online und Gemeindehaus Durlach\n - Am Zwinger 5\n - 76227
  Karlsruhe-Durlach
SUMMARY:Paul Gerhardt\, der streitbare Dichter
X-ALT-DESC;FMTTYPE=text/html:Online zugang\n \n \n \n \n Die Lieder Paul Ge
 rhardts sind Klassiker.\n Über Jahrhunderte hinweg erbauen sie die Herzen 
 von Menschen. Viele wissen aber nicht\, dass sich der Dichter dieser Liede
 r seine lutherischen Überzeugungen einiges kosten ließ.\n \n Referent: Pro
 f. Dr. Alexander Bitzel\, Gemeindepfarrer in Frankfurt a.M.\, Professor fü
 r Kirchengeschichte<br /><br />Veranstaltungsort: <br />Hybrid: Online und
  Gemeindehaus Durlach<br />Am Zwinger 5<br />76227 Karlsruhe-Durlach<br />
 <br />Veranstalter: <br />junge alte<br />Karlsruhe<br />https://www.junge
 alte.info
END:VEVENT
END:VCALENDAR
