BEGIN:VCALENDAR
VERSION:2.0
PRODID:-//christusgemeinden.de//NONSGML kigkonsult.se iCalcreator 2.41.92//
CALSCALE:GREGORIAN
METHOD:PUBLISH
UID:30666138-3665-4530-b630-393463636162
X-WR-TIMEZONE:Europe/Berlin
X-LIC-LOCATION:Europe/Berlin
BEGIN:VTIMEZONE
TZID:Europe/Berlin
BEGIN:DAYLIGHT
TZOFFSETFROM:+0100
TZOFFSETTO:+0200
TZNAME:CEST
DTSTART:19700329T020000
RRULE:FREQ=YEARLY;BYDAY=-1SU;BYMONTH=3
END:DAYLIGHT
BEGIN:STANDARD
TZOFFSETFROM:+0200
TZOFFSETTO:+0100
TZNAME:CET
DTSTART:19701025T030000
RRULE:FREQ=YEARLY;BYDAY=-1SU;BYMONTH=10
END:STANDARD
END:VTIMEZONE
BEGIN:VEVENT
UID:61633063-6137-4263-b636-393436623637
DTSTAMP:20260422T122122Z
DESCRIPTION:Online zugang Die Badische Landeskirche im gesellschaftlichen D
 iskurs. Klimaschutz und Klimagerechtigkeit in Zeiten von Polykrisen und ab
 nehmender Wahrnehmung in der Gesellschaft - welche Ziele und Haltung hat u
 nsere Landeskirche dazu? Referent: Dr. André Witthöft-Mühlmann\, landeskir
 chlicher Umweltbeauftragter\, Leitung Büro für Umwelt und Energie\, Biolog
 e\, Abteilung Bau\, Kunst und Umwelt\n \n Veranstaltungsort:\n Hybrid: Onl
 ine und Gemeindehaus Durlach\n Am Zwinger 5\n 76227 Karlsruhe-Durlach\n \n
  Veranstalter:\n junge alte\n Karlsruhe\n https://www.jungealte.info
DTSTART;TZID=Europe/Berlin:20260611T100000
DTEND;TZID=Europe/Berlin:20260611T113000
LOCATION:Hybrid: Online und Gemeindehaus Durlach\n - Am Zwinger 5\n - 76227
  Karlsruhe-Durlach
SUMMARY:Eine Kirche fürs Klima in Baden?
X-ALT-DESC;FMTTYPE=text/html:Online zugang\n \n \n \n \n Die Badische Lande
 skirche im gesellschaftlichen Diskurs.\n Klimaschutz und Klimagerechtigkei
 t in Zeiten von Polykrisen und abnehmender Wahrnehmung in der Gesellschaft
  - welche Ziele und Haltung hat unsere Landeskirche dazu?\n \n Referent: D
 r. André Witthöft-Mühlmann\, landeskirchlicher Umweltbeauftragter\, Leitun
 g Büro für Umwelt und Energie\, Biologe\, Abteilung Bau\, Kunst und Umwelt
 <br /><br />Veranstaltungsort: <br />Hybrid: Online und Gemeindehaus Durla
 ch<br />Am Zwinger 5<br />76227 Karlsruhe-Durlach<br /><br />Veranstalter:
  <br />junge alte<br />Karlsruhe<br />https://www.jungealte.info
END:VEVENT
END:VCALENDAR
