BEGIN:VCALENDAR
VERSION:2.0
PRODID:-//christusgemeinden.de//NONSGML kigkonsult.se iCalcreator 2.41.92//
CALSCALE:GREGORIAN
METHOD:PUBLISH
UID:38323339-6565-4639-b032-326538633233
X-WR-TIMEZONE:Europe/Berlin
X-LIC-LOCATION:Europe/Berlin
BEGIN:VTIMEZONE
TZID:Europe/Berlin
BEGIN:DAYLIGHT
TZOFFSETFROM:+0100
TZOFFSETTO:+0200
TZNAME:CEST
DTSTART:19700329T020000
RRULE:FREQ=YEARLY;BYDAY=-1SU;BYMONTH=3
END:DAYLIGHT
BEGIN:STANDARD
TZOFFSETFROM:+0200
TZOFFSETTO:+0100
TZNAME:CET
DTSTART:19701025T030000
RRULE:FREQ=YEARLY;BYDAY=-1SU;BYMONTH=10
END:STANDARD
END:VTIMEZONE
BEGIN:VEVENT
UID:61313734-6563-4461-b264-346439623664
DTSTAMP:20260422T061800Z
DESCRIPTION:Online zugang Seit der siegreichen Revolution von 1959 hat sich
  Kuba zu einem der einflussreichsten Länder der Dritten Welt entwickelt. F
 idel Castro galt als die Ikone lateinamerikanischer Identität. Referent: P
 rof. Dr. Bernd Braun\, Historiker und Politikwissenschaftler\, Leiter der 
 Stiftung Reichspräsident-Friedrich-Ebert-Gedenkstätte in Heidelberg\, Lehr
 beauftragter am Historischen Seminar der Universität Heidelberg\n \n Veran
 staltungsort:\n Hybrid: Online und Gemeindehaus Durlach\n Am Zwinger 5\n 7
 6227 Karlsruhe-Durlach\n \n Veranstalter:\n junge alte\n Karlsruhe\n https
 ://www.jungealte.info
DTSTART;TZID=Europe/Berlin:20260610T100000
DTEND;TZID=Europe/Berlin:20260610T113000
LOCATION:Hybrid: Online und Gemeindehaus Durlach\n - Am Zwinger 5\n - 76227
  Karlsruhe-Durlach
SUMMARY:Einführung in die Geschichte Kubas
X-ALT-DESC;FMTTYPE=text/html:Online zugang\n \n \n \n \n Seit der siegreich
 en Revolution von 1959 hat sich Kuba zu einem der einflussreichsten Länder
  der Dritten Welt entwickelt. Fidel Castro galt als die Ikone lateinamerik
 anischer Identität.\n \n Referent: Prof. Dr. Bernd Braun\, Historiker und 
 Politikwissenschaftler\, Leiter der Stiftung Reichspräsident-Friedrich-Ebe
 rt-Gedenkstätte in Heidelberg\, Lehrbeauftragter am Historischen Seminar d
 er Universität Heidelberg<br /><br />Veranstaltungsort: <br />Hybrid: Onli
 ne und Gemeindehaus Durlach<br />Am Zwinger 5<br />76227 Karlsruhe-Durlach
 <br /><br />Veranstalter: <br />junge alte<br />Karlsruhe<br />https://www
 .jungealte.info
END:VEVENT
END:VCALENDAR
