BEGIN:VCALENDAR
VERSION:2.0
PRODID:-//christusgemeinden.de//NONSGML kigkonsult.se iCalcreator 2.41.92//
CALSCALE:GREGORIAN
METHOD:PUBLISH
UID:34653232-6362-4737-b061-633363616266
X-WR-TIMEZONE:Europe/Berlin
X-LIC-LOCATION:Europe/Berlin
BEGIN:VTIMEZONE
TZID:Europe/Berlin
BEGIN:DAYLIGHT
TZOFFSETFROM:+0100
TZOFFSETTO:+0200
TZNAME:CEST
DTSTART:19700329T020000
RRULE:FREQ=YEARLY;BYDAY=-1SU;BYMONTH=3
END:DAYLIGHT
BEGIN:STANDARD
TZOFFSETFROM:+0200
TZOFFSETTO:+0100
TZNAME:CET
DTSTART:19701025T030000
RRULE:FREQ=YEARLY;BYDAY=-1SU;BYMONTH=10
END:STANDARD
END:VTIMEZONE
BEGIN:VEVENT
UID:32396136-3638-4165-b632-313963393336
DTSTAMP:20260422T043925Z
DESCRIPTION:Das kurze und bewegte Leben der Ingeborg Bachmann\n \n Online z
 ugang In diesem Jahr rundet sich der Geburtstag der 1926 geborenen Lyriker
 in und Romanautorin Ingeborg Bachmann zum hundertsten Mal. Referent: Rolan
 d Reiner\, OStD i.R.\, Studium der Germanistik und Geschichte\, bis zur Pe
 nsionierung Deutschlehrer und Schulleiter am Gymnasium\n \n Veranstaltungs
 ort:\n Hybrid: Online und Gemeindehaus Durlach\n Am Zwinger 5\n 76227 Karl
 sruhe-Durlach\n \n Veranstalter:\n junge alte\n Karlsruhe\n https://www.ju
 ngealte.info
DTSTART;TZID=Europe/Berlin:20260520T100000
DTEND;TZID=Europe/Berlin:20260520T113000
LOCATION:Hybrid: Online und Gemeindehaus Durlach\n - Am Zwinger 5\n - 76227
  Karlsruhe-Durlach
SUMMARY:„Wie Orpheus spiel ich auf den Saiten des Lebens den Tod …“
X-ALT-DESC;FMTTYPE=text/html:Das kurze und bewegte Leben der Ingeborg Bachm
 ann<br /><br />Online zugang\n \n \n \n \n In diesem Jahr rundet sich der 
 Geburtstag der 1926 geborenen Lyrikerin und Romanautorin Ingeborg Bachmann
  zum hundertsten Mal.\n \n Referent: Roland Reiner\, OStD i.R.\, Studium d
 er Germanistik und Geschichte\, bis zur Pensionierung Deutschlehrer und Sc
 hulleiter am Gymnasium<br /><br />Veranstaltungsort: <br />Hybrid: Online 
 und Gemeindehaus Durlach<br />Am Zwinger 5<br />76227 Karlsruhe-Durlach<br
  /><br />Veranstalter: <br />junge alte<br />Karlsruhe<br />https://www.ju
 ngealte.info
END:VEVENT
END:VCALENDAR
