BEGIN:VCALENDAR
VERSION:2.0
PRODID:-//christusgemeinden.de//NONSGML kigkonsult.se iCalcreator 2.41.92//
CALSCALE:GREGORIAN
METHOD:PUBLISH
UID:36383138-6234-4834-a563-333766623035
X-WR-TIMEZONE:Europe/Berlin
X-LIC-LOCATION:Europe/Berlin
BEGIN:VTIMEZONE
TZID:Europe/Berlin
BEGIN:DAYLIGHT
TZOFFSETFROM:+0100
TZOFFSETTO:+0200
TZNAME:CEST
DTSTART:19700329T020000
RRULE:FREQ=YEARLY;BYDAY=-1SU;BYMONTH=3
END:DAYLIGHT
BEGIN:STANDARD
TZOFFSETFROM:+0200
TZOFFSETTO:+0100
TZNAME:CET
DTSTART:19701025T030000
RRULE:FREQ=YEARLY;BYDAY=-1SU;BYMONTH=10
END:STANDARD
END:VTIMEZONE
BEGIN:VEVENT
UID:39353939-6333-4061-a439-383130316331
DTSTAMP:20260422T105814Z
DESCRIPTION:Eine musikalisch-literarische Matinée\n \n Online zugang Zum wi
 ederholten Male gestalten wir unsere Matinée\, in der Musik und Text eine 
 heiter-beschwingte Verbindung eingehen. Mitwirkende: Werner Scholz - Flöte
 \, Norbert Krupp - Cembalo\, Bernd Wagner - Cello\, Klaus Nagorni - Lesung
 en\n \n Veranstaltungsort:\n Hybrid: Online und Gemeindehaus Durlach\n Am 
 Zwinger 5\n 76227 Karlsruhe-Durlach\n \n Veranstalter:\n junge alte\n Karl
 sruhe\n https://www.jungealte.info
DTSTART;TZID=Europe/Berlin:20260513T100000
DTEND;TZID=Europe/Berlin:20260513T113000
LOCATION:Hybrid: Online und Gemeindehaus Durlach\n - Am Zwinger 5\n - 76227
  Karlsruhe-Durlach
SUMMARY:Wenn Töne und Worte einander begegnen ...
X-ALT-DESC;FMTTYPE=text/html:Eine musikalisch-literarische Matinée<br /><br
  />Online zugang\n \n \n \n \n Zum wiederholten Male gestalten wir unsere 
 Matinée\, in der Musik und Text eine heiter-beschwingte Verbindung eingehe
 n.\n \n Mitwirkende: Werner Scholz - Flöte\, Norbert Krupp - Cembalo\, Ber
 nd Wagner - Cello\, Klaus Nagorni - Lesungen<br /><br />Veranstaltungsort:
  <br />Hybrid: Online und Gemeindehaus Durlach<br />Am Zwinger 5<br />7622
 7 Karlsruhe-Durlach<br /><br />Veranstalter: <br />junge alte<br />Karlsru
 he<br />https://www.jungealte.info
END:VEVENT
END:VCALENDAR
