BEGIN:VCALENDAR
VERSION:2.0
PRODID:-//christusgemeinden.de//NONSGML kigkonsult.se iCalcreator 2.41.92//
CALSCALE:GREGORIAN
METHOD:PUBLISH
UID:38393334-3162-4137-b739-306233366637
X-WR-TIMEZONE:Europe/Berlin
X-LIC-LOCATION:Europe/Berlin
BEGIN:VTIMEZONE
TZID:Europe/Berlin
BEGIN:DAYLIGHT
TZOFFSETFROM:+0100
TZOFFSETTO:+0200
TZNAME:CEST
DTSTART:19700329T020000
RRULE:FREQ=YEARLY;BYDAY=-1SU;BYMONTH=3
END:DAYLIGHT
BEGIN:STANDARD
TZOFFSETFROM:+0200
TZOFFSETTO:+0100
TZNAME:CET
DTSTART:19701025T030000
RRULE:FREQ=YEARLY;BYDAY=-1SU;BYMONTH=10
END:STANDARD
END:VTIMEZONE
BEGIN:VEVENT
UID:31663338-6130-4262-b234-613336343034
DTSTAMP:20260421T140049Z
DESCRIPTION:Online zugang Ein Drucker\, der keine Buchstaben\, sondern Ding
 e produziert – ob Werkzeug\, medizinische Implantate oder Kunst und Schmuc
 k. Was nach Zukunft klingt\, ist längst Teil unseres Alltags: 3D-Drucker a
 rbeiten still und leise in Labors\, Werkstätten und in der Industrie. Doch
  wie funktioniert das eigentlich? Referent: David Schramm\n \n Veranstaltu
 ngsort:\n Hybrid: Online und Gemeindehaus Durlach\n Am Zwinger 5\n 76227 K
 arlsruhe-Durlach\n \n Veranstalter:\n junge alte\n Karlsruhe\n https://www
 .jungealte.info
DTSTART;TZID=Europe/Berlin:20260507T100000
DTEND;TZID=Europe/Berlin:20260507T113000
LOCATION:Hybrid: Online und Gemeindehaus Durlach\n - Am Zwinger 5\n - 76227
  Karlsruhe-Durlach
SUMMARY:3D-Druck: Wenn aus dem Nichts etwas entsteht
X-ALT-DESC;FMTTYPE=text/html:Online zugang\n \n \n \n \n Ein Drucker\, der 
 keine Buchstaben\, sondern Dinge produziert – ob Werkzeug\, medizinische I
 mplantate oder Kunst und Schmuck. Was nach Zukunft klingt\, ist längst Tei
 l unseres Alltags: 3D-Drucker arbeiten still und leise in Labors\, Werkstä
 tten und in der Industrie. Doch wie funktioniert das eigentlich?\n \n Refe
 rent: David Schramm<br /><br />Veranstaltungsort: <br />Hybrid: Online und
  Gemeindehaus Durlach<br />Am Zwinger 5<br />76227 Karlsruhe-Durlach<br />
 <br />Veranstalter: <br />junge alte<br />Karlsruhe<br />https://www.junge
 alte.info
END:VEVENT
END:VCALENDAR
