BEGIN:VCALENDAR
VERSION:2.0
PRODID:-//christusgemeinden.de//NONSGML kigkonsult.se iCalcreator 2.41.92//
CALSCALE:GREGORIAN
METHOD:PUBLISH
UID:31366335-6465-4238-a532-383761383634
X-WR-TIMEZONE:Europe/Berlin
X-LIC-LOCATION:Europe/Berlin
BEGIN:VTIMEZONE
TZID:Europe/Berlin
BEGIN:DAYLIGHT
TZOFFSETFROM:+0100
TZOFFSETTO:+0200
TZNAME:CEST
DTSTART:19700329T020000
RRULE:FREQ=YEARLY;BYDAY=-1SU;BYMONTH=3
END:DAYLIGHT
BEGIN:STANDARD
TZOFFSETFROM:+0200
TZOFFSETTO:+0100
TZNAME:CET
DTSTART:19701025T030000
RRULE:FREQ=YEARLY;BYDAY=-1SU;BYMONTH=10
END:STANDARD
END:VTIMEZONE
BEGIN:VEVENT
UID:39376631-3139-4732-b632-616636633064
DTSTAMP:20260421T140053Z
DESCRIPTION:Hans Werner Henze zum 100. Geburtstag\n \n Online zugang Am 1. 
 Juli 2026 jährt sich Hans Werner Henzes Geburtstag zum 100. Mal. Der Musik
 wissenschaftler Knud Breyer führt in das Werk eines der bedeutendsten deut
 schen Komponisten des 20. Jahrhunderts ein. Referent: Prof. Dr. Knud Breye
 r\, Wissenschaftlicher Mitarbeiter am Max-Reger-Institut Karlsruhe\n \n Ve
 ranstaltungsort:\n Hybrid: Online und Gemeindehaus Durlach\n Am Zwinger 5
 \n 76227 Karlsruhe-Durlach\n \n Veranstalter:\n junge alte\n Karlsruhe\n h
 ttps://www.jungealte.info
DTSTART;TZID=Europe/Berlin:20260506T100000
DTEND;TZID=Europe/Berlin:20260506T113000
LOCATION:Hybrid: Online und Gemeindehaus Durlach\n - Am Zwinger 5\n - 76227
  Karlsruhe-Durlach
SUMMARY:'Denn die Musik ist ja ein Verständigungsmittel\, ein Versöhnungsst
 ifter'
X-ALT-DESC;FMTTYPE=text/html:Hans Werner Henze zum 100. Geburtstag<br /><br
  />Online zugang\n \n \n \n \n Am 1. Juli 2026 jährt sich Hans Werner Henz
 es Geburtstag zum 100. Mal. Der Musikwissenschaftler Knud Breyer führt in 
 das Werk eines der bedeutendsten deutschen Komponisten des 20. Jahrhundert
 s ein.\n \n Referent: Prof. Dr. Knud Breyer\, Wissenschaftlicher Mitarbeit
 er am Max-Reger-Institut Karlsruhe<br /><br />Veranstaltungsort: <br />Hyb
 rid: Online und Gemeindehaus Durlach<br />Am Zwinger 5<br />76227 Karlsruh
 e-Durlach<br /><br />Veranstalter: <br />junge alte<br />Karlsruhe<br />ht
 tps://www.jungealte.info
END:VEVENT
END:VCALENDAR
