BEGIN:VCALENDAR
VERSION:2.0
PRODID:-//christusgemeinden.de//NONSGML kigkonsult.se iCalcreator 2.41.92//
CALSCALE:GREGORIAN
METHOD:PUBLISH
UID:33373062-3362-4439-b530-386537613439
X-WR-TIMEZONE:Europe/Berlin
X-LIC-LOCATION:Europe/Berlin
BEGIN:VTIMEZONE
TZID:Europe/Berlin
BEGIN:DAYLIGHT
TZOFFSETFROM:+0100
TZOFFSETTO:+0200
TZNAME:CEST
DTSTART:19700329T020000
RRULE:FREQ=YEARLY;BYDAY=-1SU;BYMONTH=3
END:DAYLIGHT
BEGIN:STANDARD
TZOFFSETFROM:+0200
TZOFFSETTO:+0100
TZNAME:CET
DTSTART:19701025T030000
RRULE:FREQ=YEARLY;BYDAY=-1SU;BYMONTH=10
END:STANDARD
END:VTIMEZONE
BEGIN:VEVENT
UID:32363036-6431-4137-b361-316362316264
DTSTAMP:20260422T121802Z
DESCRIPTION:Schöpfungsglaube - Urknall - Evolution - Naturwissenschaft\n \n
  Wie verhält sich der Glaube an Gott\, den „Schöpfer des Himmels und der E
 rde“ zu naturwissenschaftlichen Theorien wie dem Urknall oder der Evolutio
 nslehre?\n \n Veranstaltungsort:\n Online-Veranstaltung\n \n Veranstalter:
 \n EEB Karlsruhe\n Telefon: 0721 1671201
DTSTART;TZID=Europe/Berlin:20260518T190000
DTEND;TZID=Europe/Berlin:20260518T203000
LOCATION:Online-Veranstaltung
SUMMARY:Online-Reihe: GLAUBEN DENKEN
X-ALT-DESC;FMTTYPE=text/html:Schöpfungsglaube - Urknall - Evolution - Natur
 wissenschaft<br /><br />Wie verhält sich der Glaube an Gott\, den „Schöpfe
 r des Himmels und der Erde“ zu naturwissenschaftlichen Theorien wie dem Ur
 knall oder der Evolutionslehre?<br /><br />Veranstaltungsort: <br />Online
 -Veranstaltung<br /><br />Veranstalter: <br />EEB Karlsruhe<br />Telefon: 
 0721 1671201
END:VEVENT
END:VCALENDAR
