BEGIN:VCALENDAR
VERSION:2.0
PRODID:-//christusgemeinden.de//NONSGML kigkonsult.se iCalcreator 2.41.92//
CALSCALE:GREGORIAN
METHOD:PUBLISH
UID:63616365-3030-4435-b131-623865343639
X-WR-TIMEZONE:Europe/Berlin
X-LIC-LOCATION:Europe/Berlin
BEGIN:VTIMEZONE
TZID:Europe/Berlin
BEGIN:DAYLIGHT
TZOFFSETFROM:+0100
TZOFFSETTO:+0200
TZNAME:CEST
DTSTART:19700329T020000
RRULE:FREQ=YEARLY;BYDAY=-1SU;BYMONTH=3
END:DAYLIGHT
BEGIN:STANDARD
TZOFFSETFROM:+0200
TZOFFSETTO:+0100
TZNAME:CET
DTSTART:19701025T030000
RRULE:FREQ=YEARLY;BYDAY=-1SU;BYMONTH=10
END:STANDARD
END:VTIMEZONE
BEGIN:VEVENT
UID:35383333-3536-4164-b330-636133343536
DTSTAMP:20260421T140957Z
DESCRIPTION:Ein Angebot für 'gestandene' Chorleitende und C-Kurs Teilnehmen
 de!\n \n Veranstaltungsort:\n Ort nach Vereinbarung im Kirchenbezirk Brett
 en-Bruchsal\n \n Veranstalter:\n Bezirkskantorat Bretten-Bruchsal\n Bezirk
 skantorin Bärbel Tschochohei\n Promenadenweg 31\n 75015 Bretten\n Telefon:
  07252/84095
DTSTART;TZID=Europe/Berlin:20261001T190000
DTEND;TZID=Europe/Berlin:20261024T220000
LOCATION:Ort nach Vereinbarung im Kirchenbezirk Bretten-Bruchsal
SUMMARY:Chorleitung III für aktive Chorleitende und C-Kurs-Teilehmende
X-ALT-DESC;FMTTYPE=text/html:Ein Angebot für 'gestandene' Chorleitende und 
 C-Kurs Teilnehmende!<br /><br />Veranstaltungsort: <br />Ort nach Vereinba
 rung im Kirchenbezirk Bretten-Bruchsal<br /><br />Veranstalter: <br />Bezi
 rkskantorat Bretten-Bruchsal<br />Bezirkskantorin Bärbel Tschochohei<br />
 Promenadenweg 31<br />75015 Bretten<br />Telefon: 07252/84095
END:VEVENT
END:VCALENDAR
