BEGIN:VCALENDAR
VERSION:2.0
PRODID:-//christusgemeinden.de//NONSGML kigkonsult.se iCalcreator 2.41.92//
CALSCALE:GREGORIAN
METHOD:PUBLISH
UID:37303538-6632-4466-a533-396637663038
X-WR-TIMEZONE:Europe/Berlin
X-LIC-LOCATION:Europe/Berlin
BEGIN:VTIMEZONE
TZID:Europe/Berlin
BEGIN:DAYLIGHT
TZOFFSETFROM:+0100
TZOFFSETTO:+0200
TZNAME:CEST
DTSTART:19700329T020000
RRULE:FREQ=YEARLY;BYDAY=-1SU;BYMONTH=3
END:DAYLIGHT
BEGIN:STANDARD
TZOFFSETFROM:+0200
TZOFFSETTO:+0100
TZNAME:CET
DTSTART:19701025T030000
RRULE:FREQ=YEARLY;BYDAY=-1SU;BYMONTH=10
END:STANDARD
END:VTIMEZONE
BEGIN:VEVENT
UID:30666132-6263-4538-a232-363134363761
DTSTAMP:20260422T062058Z
DESCRIPTION:„Praxis-Abende“ bei bestehenden Chören\, um bei einem „echten“ 
 Gemeindechor Probenpraxis zu trainieren.\n \n Veranstaltungsort:\n Ort nac
 h Vereinbarung im Kirchenbezirk Bretten-Bruchsal\n \n Veranstalter:\n Bezi
 rkskantorat Bretten-Bruchsal\n Bezirkskantorin Bärbel Tschochohei\n Promen
 adenweg 31\n 75015 Bretten\n Telefon: 07252/84095
DTSTART;TZID=Europe/Berlin:20260302T190000
DTEND;TZID=Europe/Berlin:20260429T220000
LOCATION:Ort nach Vereinbarung im Kirchenbezirk Bretten-Bruchsal
SUMMARY:Chorleitung III für aktive Chorleitende und C-Kurs-Teilehmende
X-ALT-DESC;FMTTYPE=text/html:„Praxis-Abende“ bei bestehenden Chören\, um be
 i einem „echten“ Gemeindechor Probenpraxis zu trainieren.<br /><br />Veran
 staltungsort: <br />Ort nach Vereinbarung im Kirchenbezirk Bretten-Bruchsa
 l<br /><br />Veranstalter: <br />Bezirkskantorat Bretten-Bruchsal<br />Bez
 irkskantorin Bärbel Tschochohei<br />Promenadenweg 31<br />75015 Bretten<b
 r />Telefon: 07252/84095
END:VEVENT
END:VCALENDAR
