BEGIN:VCALENDAR
VERSION:2.0
PRODID:-//christusgemeinden.de//NONSGML kigkonsult.se iCalcreator 2.41.92//
CALSCALE:GREGORIAN
METHOD:PUBLISH
UID:62363436-3731-4066-a365-303732366631
X-WR-TIMEZONE:Europe/Berlin
X-LIC-LOCATION:Europe/Berlin
BEGIN:VTIMEZONE
TZID:Europe/Berlin
BEGIN:DAYLIGHT
TZOFFSETFROM:+0100
TZOFFSETTO:+0200
TZNAME:CEST
DTSTART:19700329T020000
RRULE:FREQ=YEARLY;BYDAY=-1SU;BYMONTH=3
END:DAYLIGHT
BEGIN:STANDARD
TZOFFSETFROM:+0200
TZOFFSETTO:+0100
TZNAME:CET
DTSTART:19701025T030000
RRULE:FREQ=YEARLY;BYDAY=-1SU;BYMONTH=10
END:STANDARD
END:VTIMEZONE
BEGIN:VEVENT
UID:62353131-3163-4136-a231-376535373837
DTSTAMP:20260422T061739Z
DESCRIPTION:Ein Workshop-Tag im Rahmen des bezirklichen Projekts Musik & Ki
 rche für Kids der 1. bis 6. Klasse\, die am Innenleben einer Orgel und ihr
 er Technik Interesse haben\n \n Veranstaltungsort:\n Evangelische Kirche M
 ünzesheim\n Pfarrgasse\n 76703 Kraichtal-Münzesheim\n \n Veranstalter:\n B
 ezirkskantorat Bretten-Bruchsal\n Bezirkskantorin Bärbel Tschochohei\n Pro
 menadenweg 31\n 75015 Bretten\n Telefon: 07252/84095
DTSTART;TZID=Europe/Berlin:20261024T100000
DTEND;TZID=Europe/Berlin:20261024T123000
LOCATION:Evangelische Kirche Münzesheim\n - Pfarrgasse\n - 76703 Kraichtal-
 Münzesheim
SUMMARY:Den Tönen auf der Spur?!
X-ALT-DESC;FMTTYPE=text/html:Ein Workshop-Tag im Rahmen des bezirklichen Pr
 ojekts Musik & Kirche für Kids der 1. bis 6. Klasse\, die am Innenleben ei
 ner Orgel und ihrer Technik Interesse haben<br /><br />Veranstaltungsort: 
 <br />Evangelische Kirche Münzesheim<br />Pfarrgasse<br />76703 Kraichtal-
 Münzesheim<br /><br />Veranstalter: <br />Bezirkskantorat Bretten-Bruchsal
 <br />Bezirkskantorin Bärbel Tschochohei<br />Promenadenweg 31<br />75015 
 Bretten<br />Telefon: 07252/84095
END:VEVENT
END:VCALENDAR
