BEGIN:VCALENDAR
VERSION:2.0
PRODID:-//christusgemeinden.de//NONSGML kigkonsult.se iCalcreator 2.41.92//
CALSCALE:GREGORIAN
METHOD:PUBLISH
UID:32363766-3133-4132-a639-653837396630
X-WR-TIMEZONE:Europe/Berlin
X-LIC-LOCATION:Europe/Berlin
BEGIN:VTIMEZONE
TZID:Europe/Berlin
BEGIN:DAYLIGHT
TZOFFSETFROM:+0100
TZOFFSETTO:+0200
TZNAME:CEST
DTSTART:19700329T020000
RRULE:FREQ=YEARLY;BYDAY=-1SU;BYMONTH=3
END:DAYLIGHT
BEGIN:STANDARD
TZOFFSETFROM:+0200
TZOFFSETTO:+0100
TZNAME:CET
DTSTART:19701025T030000
RRULE:FREQ=YEARLY;BYDAY=-1SU;BYMONTH=10
END:STANDARD
END:VTIMEZONE
BEGIN:VEVENT
UID:30633634-3661-4231-a164-353463313131
DTSTAMP:20260422T044010Z
DESCRIPTION:Ein workshop im Rahmen des bezirklichen Projekts Musik & Kirche
  für Organist*innen\n \n Veranstaltungsort:\n Lutherkirche Bruchsal\n Luis
 enstraße 7\n 76646 Bruchsal\n \n Veranstalter:\n Bezirkskantorat Bretten-B
 ruchsal\n Bezirkskantorin Bärbel Tschochohei\n Promenadenweg 31\n 75015 Br
 etten\n Telefon: 07252/84095
DTSTART;TZID=Europe/Berlin:20260912T110000
DTEND;TZID=Europe/Berlin:20260912T140000
LOCATION:Lutherkirche Bruchsal\n - Luisenstraße 7\n - 76646 Bruchsal
SUMMARY:Orgel-Pflege: Kleine Störungen erkennen und beheben
X-ALT-DESC;FMTTYPE=text/html:Ein workshop im Rahmen des bezirklichen Projek
 ts Musik & Kirche für Organist*innen<br /><br />Veranstaltungsort: <br />L
 utherkirche Bruchsal<br />Luisenstraße 7<br />76646 Bruchsal<br /><br />Ve
 ranstalter: <br />Bezirkskantorat Bretten-Bruchsal<br />Bezirkskantorin Bä
 rbel Tschochohei<br />Promenadenweg 31<br />75015 Bretten<br />Telefon: 07
 252/84095
END:VEVENT
END:VCALENDAR
