BEGIN:VCALENDAR
VERSION:2.0
PRODID:-//christusgemeinden.de//NONSGML kigkonsult.se iCalcreator 2.41.92//
CALSCALE:GREGORIAN
METHOD:PUBLISH
UID:30626433-6536-4233-a563-643163633530
X-WR-TIMEZONE:Europe/Berlin
X-LIC-LOCATION:Europe/Berlin
BEGIN:VTIMEZONE
TZID:Europe/Berlin
BEGIN:DAYLIGHT
TZOFFSETFROM:+0100
TZOFFSETTO:+0200
TZNAME:CEST
DTSTART:19700329T020000
RRULE:FREQ=YEARLY;BYDAY=-1SU;BYMONTH=3
END:DAYLIGHT
BEGIN:STANDARD
TZOFFSETFROM:+0200
TZOFFSETTO:+0100
TZNAME:CET
DTSTART:19701025T030000
RRULE:FREQ=YEARLY;BYDAY=-1SU;BYMONTH=10
END:STANDARD
END:VTIMEZONE
BEGIN:VEVENT
UID:30353839-6164-4263-b433-653437626435
DTSTAMP:20260422T014047Z
DESCRIPTION:Vorsorgebroschüre und -ordner erfahren eine außerordentliche Na
 chfrage: Menschen erleben Kirche als hilfreich und unterstützend in den Le
 bensfragen\, welche sie bewegen. Viele nehmen das Angebot dankbar an\, mit
  Hilfe des digitalen Vorsorgeformulars ihre persönlichen Angelegenheiten s
 ystematisch anzugehen und zu klären. Die (online-) Vorsorgeseminare sind g
 ut nachgefragt. Das eröffnet zugleich Chancen für die Gemeindearbeit … Zur
  Anmeldung\n \n Veranstaltungsort:\n Online\n \n Veranstalter:\n Servicest
 elle Fundraising und Beziehungspflege\n Blumenstraße 1-7\n 76133 Karlsruhe
 \n Telefon: 0721 91 75 811\n Telefax: 0721 91 75 25 820\n http://www.ekiba
 .de/fundraising
DTSTART;TZID=Europe/Berlin:20260616T190000
DTEND;TZID=Europe/Berlin:20260616T203000
LOCATION:Online
SUMMARY:„Nicht(s) vergessen“: Praktische Anregungen für den Einsatz der Vor
 sorgematerialien in der Gemeinde
X-ALT-DESC;FMTTYPE=text/html:Vorsorgebroschüre und -ordner erfahren eine au
 ßerordentliche Nachfrage: Menschen erleben Kirche als hilfreich und unters
 tützend in den Lebensfragen\, welche sie bewegen. Viele nehmen das Angebot
  dankbar an\, mit Hilfe des digitalen Vorsorgeformulars ihre persönlichen 
 Angelegenheiten systematisch anzugehen und zu klären. Die (online-) Vorsor
 geseminare sind gut nachgefragt. Das eröffnet zugleich Chancen für die Gem
 eindearbeit …\n \n Zur Anmeldung<br /><br />Veranstaltungsort: <br />Onlin
 e<br /><br />Veranstalter: <br />Servicestelle Fundraising und Beziehungsp
 flege<br />Blumenstraße 1-7<br />76133 Karlsruhe<br />Telefon: 0721 91 75 
 811<br />Telefax: 0721 91 75 25 820<br />http://www.ekiba.de/fundraising
END:VEVENT
END:VCALENDAR
