BEGIN:VCALENDAR
VERSION:2.0
PRODID:-//christusgemeinden.de//NONSGML kigkonsult.se iCalcreator 2.41.92//
CALSCALE:GREGORIAN
METHOD:PUBLISH
UID:33643464-3961-4066-a661-343735323264
X-WR-TIMEZONE:Europe/Berlin
X-LIC-LOCATION:Europe/Berlin
BEGIN:VTIMEZONE
TZID:Europe/Berlin
BEGIN:DAYLIGHT
TZOFFSETFROM:+0100
TZOFFSETTO:+0200
TZNAME:CEST
DTSTART:19700329T020000
RRULE:FREQ=YEARLY;BYDAY=-1SU;BYMONTH=3
END:DAYLIGHT
BEGIN:STANDARD
TZOFFSETFROM:+0200
TZOFFSETTO:+0100
TZNAME:CET
DTSTART:19701025T030000
RRULE:FREQ=YEARLY;BYDAY=-1SU;BYMONTH=10
END:STANDARD
END:VTIMEZONE
BEGIN:VEVENT
UID:61656334-6535-4034-b565-613163303236
DTSTAMP:20260421T140143Z
DESCRIPTION:Klimaneutralität bis 2040. Ein wichtiger Schritt zur Erreichung
  ist unser Solardachprogramm – und ihre Kirchengemeinde kann mitmachen! Si
 e haben Fragen und wollen wissen\, was sie machen können und wie es losgeh
 en kann? Was steckt dahinter und wer macht da was?\n \n Veranstaltungsort:
 \n Online\n \n Veranstalter:\n Büro für Umwelt und Energie (BUE)\n Anja Lu
 ft\n Telefon: 0721/9175-807\n http://www.ekiba.de/bue
DTSTART;TZID=Europe/Berlin:20260424T190000
DTEND;TZID=Europe/Berlin:20260424T200000
LOCATION:Online
SUMMARY:Klimaschutz mit Sonnenkraft - seien Sie dabei!
X-ALT-DESC;FMTTYPE=text/html:Klimaneutralität bis 2040. Ein wichtiger Schri
 tt zur Erreichung ist unser Solardachprogramm – und ihre Kirchengemeinde k
 ann mitmachen!\n Sie haben Fragen und wollen wissen\, was sie machen könne
 n und wie es losgehen kann? Was steckt dahinter und wer macht da was?<br /
 ><br />Veranstaltungsort: <br />Online<br /><br />Veranstalter: <br />Büro
  für Umwelt und Energie (BUE)<br />Anja Luft<br />Telefon: 0721/9175-807<b
 r />http://www.ekiba.de/bue
END:VEVENT
END:VCALENDAR
