BEGIN:VCALENDAR
VERSION:2.0
PRODID:-//christusgemeinden.de//NONSGML kigkonsult.se iCalcreator 2.41.92//
CALSCALE:GREGORIAN
METHOD:PUBLISH
UID:65303232-3838-4537-a561-633737356661
X-WR-TIMEZONE:Europe/Berlin
X-LIC-LOCATION:Europe/Berlin
BEGIN:VTIMEZONE
TZID:Europe/Berlin
BEGIN:DAYLIGHT
TZOFFSETFROM:+0100
TZOFFSETTO:+0200
TZNAME:CEST
DTSTART:19700329T020000
RRULE:FREQ=YEARLY;BYDAY=-1SU;BYMONTH=3
END:DAYLIGHT
BEGIN:STANDARD
TZOFFSETFROM:+0200
TZOFFSETTO:+0100
TZNAME:CET
DTSTART:19701025T030000
RRULE:FREQ=YEARLY;BYDAY=-1SU;BYMONTH=10
END:STANDARD
END:VTIMEZONE
BEGIN:VEVENT
UID:64383339-3237-4330-a235-636532383731
DTSTAMP:20260422T062209Z
DESCRIPTION:Familienkonzert für alle 'Orgelfreaks' von 0 - 99 und mehr Jahr
 e!\n \n Musik zum Markt in der Stiftskirche ...dieses Mal zum Auftakt der 
 Matinee-Reihe im Sommer!!\n \n Veranstaltungsort:\n Stiftskirche\n Amtsgas
 se 3\n 75015 Bretten\n \n Veranstalter:\n Evangelische Kirchengemeinde Bre
 tten und Gölshausen\n Reuchlinstr. 4\n 75015 Bretten\n Telefon: 07252/9638
 8-0\n Telefax: 07252/96388-90\n https://ev-kirche-bretten.de
DTSTART;TZID=Europe/Berlin:20260523T113000
DTEND;TZID=Europe/Berlin:20260523T120000
LOCATION:Stiftskirche\n - Amtsgasse 3\n - 75015 Bretten
SUMMARY:Musik zum Markt - mal anders
X-ALT-DESC;FMTTYPE=text/html:Familienkonzert für alle 'Orgelfreaks' von 0 -
  99 und mehr Jahre!<br /><br />Musik zum Markt in der Stiftskirche\n ...di
 eses Mal zum Auftakt der Matinee-Reihe im Sommer!!<br /><br />Veranstaltun
 gsort: <br />Stiftskirche<br />Amtsgasse 3<br />75015 Bretten<br /><br />V
 eranstalter: <br />Evangelische Kirchengemeinde Bretten und Gölshausen<br 
 />Reuchlinstr. 4<br />75015 Bretten<br />Telefon: 07252/96388-0<br />Telef
 ax: 07252/96388-90<br />https://ev-kirche-bretten.de
END:VEVENT
END:VCALENDAR
