BEGIN:VCALENDAR
VERSION:2.0
PRODID:-//christusgemeinden.de//NONSGML kigkonsult.se iCalcreator 2.41.92//
CALSCALE:GREGORIAN
METHOD:PUBLISH
UID:65653566-3661-4233-a133-666462633561
X-WR-TIMEZONE:Europe/Berlin
X-LIC-LOCATION:Europe/Berlin
BEGIN:VTIMEZONE
TZID:Europe/Berlin
BEGIN:DAYLIGHT
TZOFFSETFROM:+0100
TZOFFSETTO:+0200
TZNAME:CEST
DTSTART:19700329T020000
RRULE:FREQ=YEARLY;BYDAY=-1SU;BYMONTH=3
END:DAYLIGHT
BEGIN:STANDARD
TZOFFSETFROM:+0200
TZOFFSETTO:+0100
TZNAME:CET
DTSTART:19701025T030000
RRULE:FREQ=YEARLY;BYDAY=-1SU;BYMONTH=10
END:STANDARD
END:VTIMEZONE
BEGIN:VEVENT
UID:38363065-6663-4438-a532-373536393162
DTSTAMP:20260424T111348Z
DESCRIPTION:Die Patientenverfügung ist eine schriftliche\, verbindliche Han
 dlungsanweisung an den behandelnden Arzt und das Pflegepersonal. Sie regel
 t\, welche Behandlungen und ärztlichen Maßnahmen durchgeführt werden solle
 n oder unterbleiben müssen\, und kommt erst dann zum Tragen\, wenn der Pat
 ient sich nicht mehr äußern kann. Daran wird deutlich\, dass es gut und wi
 chtig ist\, die Gestaltung einer Patientenverfügung ernst zu nehmen.\n \n 
 Veranstaltungsort:\n online\n \n Veranstalter:\n „Nicht(s) vergessen“ ist 
 eine gemeinsame Initiative Evangelischer Landeskirchen und ihrer Diakonisc
 hen Werke.\n http://www.nichtsvergessen.de
DTSTART;TZID=Europe/Berlin:20261015T190000
DTEND;TZID=Europe/Berlin:20261015T203000
LOCATION:online
SUMMARY:Online-Seminar: 'Patientenverfügung - Wertschätzung & Ruhe für gesu
 ndheitliche Grenzsituationen'
X-ALT-DESC;FMTTYPE=text/html:Die Patientenverfügung ist eine schriftliche\,
  verbindliche Handlungsanweisung an den behandelnden Arzt und das Pflegepe
 rsonal. Sie regelt\, welche Behandlungen und ärztlichen Maßnahmen durchgef
 ührt werden sollen oder unterbleiben müssen\, und kommt erst dann zum\n Tr
 agen\, wenn der Patient sich nicht mehr äußern kann. Daran wird deutlich\,
  dass es gut und wichtig ist\, die Gestaltung einer Patientenverfügung ern
 st zu nehmen.<br /><br />Veranstaltungsort: <br />online<br /><br />Verans
 talter: <br />„Nicht(s) vergessen“ ist eine gemeinsame Initiative Evangeli
 scher Landeskirchen und ihrer Diakonischen Werke.<br />http://www.nichtsve
 rgessen.de
END:VEVENT
END:VCALENDAR
