BEGIN:VCALENDAR
VERSION:2.0
PRODID:-//christusgemeinden.de//NONSGML kigkonsult.se iCalcreator 2.41.92//
CALSCALE:GREGORIAN
METHOD:PUBLISH
UID:62326134-6231-4138-b538-323533373631
X-WR-TIMEZONE:Europe/Berlin
X-LIC-LOCATION:Europe/Berlin
BEGIN:VTIMEZONE
TZID:Europe/Berlin
BEGIN:DAYLIGHT
TZOFFSETFROM:+0100
TZOFFSETTO:+0200
TZNAME:CEST
DTSTART:19700329T020000
RRULE:FREQ=YEARLY;BYDAY=-1SU;BYMONTH=3
END:DAYLIGHT
BEGIN:STANDARD
TZOFFSETFROM:+0200
TZOFFSETTO:+0100
TZNAME:CET
DTSTART:19701025T030000
RRULE:FREQ=YEARLY;BYDAY=-1SU;BYMONTH=10
END:STANDARD
END:VTIMEZONE
BEGIN:VEVENT
UID:38386534-6433-4236-b833-636630396531
DTSTAMP:20260424T111335Z
DESCRIPTION:Ein gut angelegter Vorsorgeordner kann bereits mitten im Leben 
 zum „Allesfinder“ werden. Gerade in der Krise hilft er Ihrer Vertrauensper
 son in Ihrem Interesse handeln zu können. Es stellt sich allerdings die Fr
 age\, wie lege ich am einfachsten einen solchen Vorsorgeordner an und was 
 gehört hinein?\n \n Veranstaltungsort:\n online\n \n Veranstalter:\n „Nich
 t(s) vergessen“ ist eine gemeinsame Initiative Evangelischer Landeskirchen
  und ihrer Diakonischen Werke.\n http://www.nichtsvergessen.de
DTSTART;TZID=Europe/Berlin:20260929T190000
DTEND;TZID=Europe/Berlin:20260929T203000
LOCATION:online
SUMMARY:Online-Seminar: 'Vorsorgeordner - Rahmen und Mittelpunkt Ihrer Plan
 ungen'
X-ALT-DESC;FMTTYPE=text/html:Ein gut angelegter Vorsorgeordner kann bereits
  mitten im Leben zum „Allesfinder“ werden. Gerade in der Krise hilft er Ih
 rer Vertrauensperson in Ihrem Interesse handeln zu können. Es stellt sich 
 allerdings die Frage\, wie lege ich am einfachsten einen solchen Vorsorgeo
 rdner an und was gehört hinein?<br /><br />Veranstaltungsort: <br />online
 <br /><br />Veranstalter: <br />„Nicht(s) vergessen“ ist eine gemeinsame I
 nitiative Evangelischer Landeskirchen und ihrer Diakonischen Werke.<br />h
 ttp://www.nichtsvergessen.de
END:VEVENT
END:VCALENDAR
