BEGIN:VCALENDAR
VERSION:2.0
PRODID:-//christusgemeinden.de//NONSGML kigkonsult.se iCalcreator 2.41.92//
CALSCALE:GREGORIAN
METHOD:PUBLISH
UID:36343262-6336-4330-b235-313566333464
X-WR-TIMEZONE:Europe/Berlin
X-LIC-LOCATION:Europe/Berlin
BEGIN:VTIMEZONE
TZID:Europe/Berlin
BEGIN:DAYLIGHT
TZOFFSETFROM:+0100
TZOFFSETTO:+0200
TZNAME:CEST
DTSTART:19700329T020000
RRULE:FREQ=YEARLY;BYDAY=-1SU;BYMONTH=3
END:DAYLIGHT
BEGIN:STANDARD
TZOFFSETFROM:+0200
TZOFFSETTO:+0100
TZNAME:CET
DTSTART:19701025T030000
RRULE:FREQ=YEARLY;BYDAY=-1SU;BYMONTH=10
END:STANDARD
END:VTIMEZONE
BEGIN:VEVENT
UID:34663634-3465-4431-b135-313935663932
DTSTAMP:20260424T105034Z
DESCRIPTION:Christusgemeinde Unter- und Obergrombch\, Paul-Gerhardt-Gemeind
 e Bruchsal\, evang Gemeinde Karlsdorf-Neuthard\n \n Kirchenregion Bruchsal
 \n \n Weitere Termine:\n Fr. 08.05.2026\, 18:30 Uhr\n Do. 14.05.2026\, 10:
 30 Uhr\n \n Veranstaltungsort:\n Paul-Gerhardt-Kirche Bruchsal\n Paul-Gerh
 ardt-Straße 29\n 76646 Bruchsal\n \n Veranstalter:\n Veranstalter
DTSTART;TZID=Europe/Berlin:20260424T190000
DTEND;TZID=Europe/Berlin:20260424T200000
LOCATION:Paul-Gerhardt-Kirche Bruchsal\n - Paul-Gerhardt-Straße 29\n - 7664
 6 Bruchsal
SUMMARY:Konfi Abendmahlgottesdienst
X-ALT-DESC;FMTTYPE=text/html:Christusgemeinde Unter- und Obergrombch\, Paul
 -Gerhardt-Gemeinde Bruchsal\, evang Gemeinde Karlsdorf-Neuthard<br /><br /
 >Kirchenregion Bruchsal<br /><br />Weitere Termine:<br />Fr. 08.05.2026\, 
 18:30 Uhr<br />Do. 14.05.2026\, 10:30 Uhr<br /><br />Veranstaltungsort: <b
 r />Paul-Gerhardt-Kirche Bruchsal<br />Paul-Gerhardt-Straße 29<br />76646 
 Bruchsal<br /><br />Veranstalter: <br />Veranstalter
END:VEVENT
END:VCALENDAR
