BEGIN:VCALENDAR
VERSION:2.0
PRODID:-//christusgemeinden.de//NONSGML kigkonsult.se iCalcreator 2.41.92//
CALSCALE:GREGORIAN
METHOD:PUBLISH
UID:35633638-6530-4130-b032-633832623861
X-WR-TIMEZONE:Europe/Berlin
X-LIC-LOCATION:Europe/Berlin
BEGIN:VTIMEZONE
TZID:Europe/Berlin
BEGIN:DAYLIGHT
TZOFFSETFROM:+0100
TZOFFSETTO:+0200
TZNAME:CEST
DTSTART:19700329T020000
RRULE:FREQ=YEARLY;BYDAY=-1SU;BYMONTH=3
END:DAYLIGHT
BEGIN:STANDARD
TZOFFSETFROM:+0200
TZOFFSETTO:+0100
TZNAME:CET
DTSTART:19701025T030000
RRULE:FREQ=YEARLY;BYDAY=-1SU;BYMONTH=10
END:STANDARD
END:VTIMEZONE
BEGIN:VEVENT
UID:35313033-3431-4331-a334-366438366466
DTSTAMP:20260422T121903Z
DESCRIPTION:Gesund werden\, gesund bleiben — Dinge\, die Sie vielleicht nic
 ht wussten — Dr. Barbara Wagner\, Fachärztin für Frauenheilkunde\n \n Weit
 ere Termine:\n Do. 14.05.2026\, 10:30 Uhr\n \n 2026_05_ Flyer Barbara Wagn
 er.pdf [718 kB] Quelle: bw\n \n Veranstaltungsort:\n Luthergemeinde Bruchs
 al-Forst\n Luisenstr. 7\n Bruchsal\n \n Veranstalter:\n evang. Luthergemei
 nde Bruchsal-Forst
DTSTART;TZID=Europe/Berlin:20260508T183000
DTEND;TZID=Europe/Berlin:20260508T200000
LOCATION:Luthergemeinde Bruchsal-Forst\n - Luisenstr. 7\n - Bruchsal
SUMMARY:Freitags im Gespräch
X-ALT-DESC;FMTTYPE=text/html:Gesund werden\, gesund bleiben — Dinge\, die S
 ie vielleicht nicht wussten — Dr. Barbara Wagner\, Fachärztin für Frauenhe
 ilkunde<br /><br />Weitere Termine:<br />Do. 14.05.2026\, 10:30 Uhr<br /><
 br />2026_05_ Flyer Barbara Wagner.pdf [718 kB]\n Quelle: bw<br /><br />Ve
 ranstaltungsort: <br />Luthergemeinde Bruchsal-Forst<br />Luisenstr. 7<br 
 />Bruchsal<br /><br />Veranstalter: <br />evang. Luthergemeinde Bruchsal-F
 orst
END:VEVENT
END:VCALENDAR
