BEGIN:VCALENDAR
VERSION:2.0
PRODID:-//christusgemeinden.de//NONSGML kigkonsult.se iCalcreator 2.41.92//
CALSCALE:GREGORIAN
METHOD:PUBLISH
UID:33313133-3132-4630-b464-393732646236
X-WR-TIMEZONE:Europe/Berlin
X-LIC-LOCATION:Europe/Berlin
BEGIN:VTIMEZONE
TZID:Europe/Berlin
BEGIN:DAYLIGHT
TZOFFSETFROM:+0100
TZOFFSETTO:+0200
TZNAME:CEST
DTSTART:19700329T020000
RRULE:FREQ=YEARLY;BYDAY=-1SU;BYMONTH=3
END:DAYLIGHT
BEGIN:STANDARD
TZOFFSETFROM:+0200
TZOFFSETTO:+0100
TZNAME:CET
DTSTART:19701025T030000
RRULE:FREQ=YEARLY;BYDAY=-1SU;BYMONTH=10
END:STANDARD
END:VTIMEZONE
BEGIN:VEVENT
UID:66326663-6534-4061-a634-366337326361
DTSTAMP:20260422T133854Z
DESCRIPTION:Glaube. Nation. Macht.\n \n Digitaler ökumenischer Studientag f
 ür Mitarbeitende in Seelsorge\, Verkündigung\, Religionsunterricht und Ber
 atung. Mit spannenden Vorträgen und Austauschangeboten zum Thema.\n \n Ver
 anstaltungsort:\n Online\n \n Veranstalter:\n Evangelische Akademie Baden
 \n Blumenstraße 1-7\n 76133 Karlsruhe\n www.ev-akademie-baden.de
DTSTART;TZID=Europe/Berlin:20260612T150000
DTEND;TZID=Europe/Berlin:20260612T180000
LOCATION:Online
SUMMARY:Nationales  Christentum
X-ALT-DESC;FMTTYPE=text/html:Glaube. Nation. Macht.<br /><br />Digitaler ök
 umenischer Studientag für Mitarbeitende in Seelsorge\, Verkündigung\, Reli
 gionsunterricht und Beratung. Mit spannenden Vorträgen und Austauschangebo
 ten zum Thema.<br /><br />Veranstaltungsort: <br />Online<br /><br />Veran
 stalter: <br />Evangelische Akademie Baden<br />Blumenstraße 1-7<br />7613
 3 Karlsruhe<br />www.ev-akademie-baden.de
END:VEVENT
END:VCALENDAR
