BEGIN:VCALENDAR
VERSION:2.0
PRODID:-//christusgemeinden.de//NONSGML kigkonsult.se iCalcreator 2.41.92//
CALSCALE:GREGORIAN
METHOD:PUBLISH
UID:61633166-6662-4236-a437-616435663461
X-WR-TIMEZONE:Europe/Berlin
X-LIC-LOCATION:Europe/Berlin
BEGIN:VTIMEZONE
TZID:Europe/Berlin
BEGIN:DAYLIGHT
TZOFFSETFROM:+0100
TZOFFSETTO:+0200
TZNAME:CEST
DTSTART:19700329T020000
RRULE:FREQ=YEARLY;BYDAY=-1SU;BYMONTH=3
END:DAYLIGHT
BEGIN:STANDARD
TZOFFSETFROM:+0200
TZOFFSETTO:+0100
TZNAME:CET
DTSTART:19701025T030000
RRULE:FREQ=YEARLY;BYDAY=-1SU;BYMONTH=10
END:STANDARD
END:VTIMEZONE
BEGIN:VEVENT
UID:32616164-3063-4436-b139-383735656466
DTSTAMP:20260422T100712Z
DESCRIPTION:Bibel kennen und verstehen\n \n Leitung: Pfrin. Andrea Knauber
 \n \n 2026 bibel-neu-kennen.pdf [396.3 kB] Quelle: ak\n \n Veranstaltungso
 rt:\n Gustav-Adolf-Kirche\n Giebelzimmer\n Bruchsaler Straße 63\n 76646 Br
 uchsal-Untergrombach\n \n Veranstalter:\n Christusgemeinde Unter- und Ober
 grombach\n Joß-Fritz-Straße 30a\n 76646 Bruchsal-Untergrombach\n Telefon: 
 +49 7257 924 289\n Telefax: +49 7257 924 330\n https://christusgemeinden.d
 e/
DTSTART;TZID=Europe/Berlin:20260512T193000
DTEND;TZID=Europe/Berlin:20260512T203000
LOCATION:Gustav-Adolf-Kirche\n - Giebelzimmer\n - Bruchsaler Straße 63\n - 
 76646 Bruchsal-Untergrombach
SUMMARY:Bibel neu kennen und verstehen lernen
X-ALT-DESC;FMTTYPE=text/html:Bibel kennen und verstehen<br /><br />Leitung:
  Pfrin. Andrea Knauber<br /><br />2026 bibel-neu-kennen.pdf [396.3 kB]\n Q
 uelle: ak<br /><br />Veranstaltungsort: <br />Gustav-Adolf-Kirche<br />Gie
 belzimmer<br />Bruchsaler Straße 63<br />76646 Bruchsal-Untergrombach<br /
 ><br />Veranstalter: <br />Christusgemeinde Unter- und Obergrombach<br />J
 oß-Fritz-Straße 30a<br />76646 Bruchsal-Untergrombach<br />Telefon: +49 72
 57 924 289<br />Telefax: +49 7257 924 330<br />https://christusgemeinden.d
 e/
END:VEVENT
END:VCALENDAR
