BEGIN:VCALENDAR
VERSION:2.0
PRODID:-//christusgemeinden.de//NONSGML kigkonsult.se iCalcreator 2.41.92//
CALSCALE:GREGORIAN
METHOD:PUBLISH
UID:32653437-3938-4939-b531-616630313531
X-WR-TIMEZONE:Europe/Berlin
X-LIC-LOCATION:Europe/Berlin
BEGIN:VTIMEZONE
TZID:Europe/Berlin
BEGIN:DAYLIGHT
TZOFFSETFROM:+0100
TZOFFSETTO:+0200
TZNAME:CEST
DTSTART:19700329T020000
RRULE:FREQ=YEARLY;BYDAY=-1SU;BYMONTH=3
END:DAYLIGHT
BEGIN:STANDARD
TZOFFSETFROM:+0200
TZOFFSETTO:+0100
TZNAME:CET
DTSTART:19701025T030000
RRULE:FREQ=YEARLY;BYDAY=-1SU;BYMONTH=10
END:STANDARD
END:VTIMEZONE
BEGIN:VEVENT
UID:34303233-6562-4731-b630-366161666336
DTSTAMP:20260422T025349Z
DESCRIPTION:Kirchenchor(Singkreis)\n \n Leitung: Slobodan Jovanovic\n \n We
 itere Termine:\n Do. 30.04.2026\, 19:10 Uhr\n \n Veranstaltungsort:\n Gust
 av-Adolf-Kirche\n Giebelzimmer\n Bruchsaler Straße 63\n 76646 Bruchsal-Unt
 ergrombach\n \n Veranstalter:\n Kirchenchor (Singkreis)
DTSTART;TZID=Europe/Berlin:20260423T191000
DTEND;TZID=Europe/Berlin:20260423T201000
LOCATION:Gustav-Adolf-Kirche\n - Giebelzimmer\n - Bruchsaler Straße 63\n - 
 76646 Bruchsal-Untergrombach
SUMMARY:Chorprobe des Singkreises
X-ALT-DESC;FMTTYPE=text/html:Kirchenchor(Singkreis)<br /><br />Leitung: Slo
 bodan Jovanovic<br /><br />Weitere Termine:<br />Do. 30.04.2026\, 19:10 Uh
 r<br /><br />Veranstaltungsort: <br />Gustav-Adolf-Kirche<br />Giebelzimme
 r<br />Bruchsaler Straße 63<br />76646 Bruchsal-Untergrombach<br /><br />V
 eranstalter: <br />Kirchenchor (Singkreis)
END:VEVENT
END:VCALENDAR
