BEGIN:VCALENDAR
VERSION:2.0
PRODID:-//christusgemeinden.de//NONSGML kigkonsult.se iCalcreator 2.41.92//
CALSCALE:GREGORIAN
METHOD:PUBLISH
UID:33643633-3566-4436-b635-306434376636
X-WR-TIMEZONE:Europe/Berlin
X-LIC-LOCATION:Europe/Berlin
BEGIN:VTIMEZONE
TZID:Europe/Berlin
BEGIN:DAYLIGHT
TZOFFSETFROM:+0100
TZOFFSETTO:+0200
TZNAME:CEST
DTSTART:19700329T020000
RRULE:FREQ=YEARLY;BYDAY=-1SU;BYMONTH=3
END:DAYLIGHT
BEGIN:STANDARD
TZOFFSETFROM:+0200
TZOFFSETTO:+0100
TZNAME:CET
DTSTART:19701025T030000
RRULE:FREQ=YEARLY;BYDAY=-1SU;BYMONTH=10
END:STANDARD
END:VTIMEZONE
BEGIN:VEVENT
UID:34663831-3831-4664-a265-373966633336
DTSTAMP:20260421T154739Z
DESCRIPTION:für Kinder und Familien\n \n Veranstaltungsort:\n Johanniskirch
 e\n Luisenstraße 53\n 76137 Karlsruhe-Südstadt\n \n Veranstalter:\n Evange
 lische Innenstadtgemeinde Karlsruhe\n http://www.christuskirche-karlsruhe.
 de
DTSTART;TZID=Europe/Berlin:20260509T100000
DTEND;TZID=Europe/Berlin:20260509T160000
LOCATION:Johanniskirche\n - Luisenstraße 53\n - 76137 Karlsruhe-Südstadt
SUMMARY:Bücherkirche
X-ALT-DESC;FMTTYPE=text/html:für Kinder und Familien<br /><br />Veranstaltu
 ngsort: <br />Johanniskirche<br />Luisenstraße 53<br />76137 Karlsruhe-Süd
 stadt<br /><br />Veranstalter: <br />Evangelische Innenstadtgemeinde Karls
 ruhe<br />http://www.christuskirche-karlsruhe.de
END:VEVENT
END:VCALENDAR
