BEGIN:VCALENDAR
VERSION:2.0
PRODID:-//christusgemeinden.de//NONSGML kigkonsult.se iCalcreator 2.41.92//
CALSCALE:GREGORIAN
METHOD:PUBLISH
UID:35306261-6338-4464-a137-333664643138
X-WR-TIMEZONE:Europe/Berlin
X-LIC-LOCATION:Europe/Berlin
BEGIN:VTIMEZONE
TZID:Europe/Berlin
BEGIN:DAYLIGHT
TZOFFSETFROM:+0100
TZOFFSETTO:+0200
TZNAME:CEST
DTSTART:19700329T020000
RRULE:FREQ=YEARLY;BYDAY=-1SU;BYMONTH=3
END:DAYLIGHT
BEGIN:STANDARD
TZOFFSETFROM:+0200
TZOFFSETTO:+0100
TZNAME:CET
DTSTART:19701025T030000
RRULE:FREQ=YEARLY;BYDAY=-1SU;BYMONTH=10
END:STANDARD
END:VTIMEZONE
BEGIN:VEVENT
UID:39333138-3434-4037-a638-313664626461
DTSTAMP:20260422T105559Z
DESCRIPTION:Schülerkonzert mit jungen Stimmen\n \n Von Mozart bis Musical M
 it Gesangsschülern vom Cantus Juvenum und dem ökumenischen Kinderchor Ober
 reut und weiteren Gästen Musikalische Leitung: Marijana Schoesser\n \n Ver
 anstaltungsort:\n Musentempel Karlsruhe\n Hardtstr. 37 A\n \n Veranstalter
 :\n Sonstige
DTSTART;TZID=Europe/Berlin:20260711T160000
DTEND;TZID=Europe/Berlin:20260711T180000
LOCATION:Musentempel Karlsruhe\n - Hardtstr. 37 A
SUMMARY:Bühne frei!
X-ALT-DESC;FMTTYPE=text/html:Schülerkonzert mit jungen Stimmen<br /><br />V
 on Mozart bis Musical\n \n Mit Gesangsschülern vom Cantus Juvenum und dem 
 ökumenischen Kinderchor Oberreut und weiteren Gästen\n \n Musikalische Lei
 tung: Marijana Schoesser<br /><br />Veranstaltungsort: <br />Musentempel K
 arlsruhe<br />Hardtstr. 37 A<br /><br />Veranstalter: <br />Sonstige
END:VEVENT
END:VCALENDAR
