BEGIN:VCALENDAR
VERSION:2.0
PRODID:-//christusgemeinden.de//NONSGML kigkonsult.se iCalcreator 2.41.92//
CALSCALE:GREGORIAN
METHOD:PUBLISH
UID:36613635-3963-4736-b561-393962333163
X-WR-TIMEZONE:Europe/Berlin
X-LIC-LOCATION:Europe/Berlin
BEGIN:VTIMEZONE
TZID:Europe/Berlin
BEGIN:DAYLIGHT
TZOFFSETFROM:+0100
TZOFFSETTO:+0200
TZNAME:CEST
DTSTART:19700329T020000
RRULE:FREQ=YEARLY;BYDAY=-1SU;BYMONTH=3
END:DAYLIGHT
BEGIN:STANDARD
TZOFFSETFROM:+0200
TZOFFSETTO:+0100
TZNAME:CET
DTSTART:19701025T030000
RRULE:FREQ=YEARLY;BYDAY=-1SU;BYMONTH=10
END:STANDARD
END:VTIMEZONE
BEGIN:VEVENT
UID:33343036-3533-4531-a334-616230303463
DTSTAMP:20260422T121522Z
DESCRIPTION:Entdecken Sie die Grundlagen erfolgreicher Fördermittelakquise!
  In diesem Seminar erfahren Sie\, wie Sie passende Förderprogramme finden\
 , Anträge erfolgreich gestalten und Ihre Projekte optimal präsentieren. Mi
 t praktischen Tipps und Beispielen machen wir Sie fit für den Einstieg in 
 die Welt der Fördermittel. Ideal für Einsteiger*innen aus Kirchengemeinden
 \, die ihre Finanzierungsmöglichkeiten erweitern möchten. Mit Hinweisen fü
 r die Recherche und erfolgversprechenden Adressen für die (ersten) Antrags
 tellungen. Zur Anmeldung\n \n Veranstaltungsort:\n digitale Veranstaltung
 \n \n Veranstalter:\n Servicestelle Fundraising und Beziehungspflege\n Blu
 menstraße 1-7\n 76133 Karlsruhe\n Telefon: 0721 91 75 811\n Telefax: 0721 
 91 75 25 820\n http://www.ekiba.de/fundraising
DTSTART;TZID=Europe/Berlin:20260518T180000
DTEND;TZID=Europe/Berlin:20260518T203000
LOCATION:digitale Veranstaltung
SUMMARY:Fundraising-Webinar 'Einstieg in die Welt der Fördermittel'
X-ALT-DESC;FMTTYPE=text/html:Entdecken Sie die Grundlagen erfolgreicher För
 dermittelakquise! In diesem Seminar erfahren Sie\, wie Sie passende Förder
 programme finden\, Anträge erfolgreich gestalten und Ihre Projekte optimal
  präsentieren. Mit praktischen Tipps und Beispielen machen wir Sie fit für
  den Einstieg in die Welt der Fördermittel.\n Ideal für Einsteiger*innen a
 us Kirchengemeinden\, die ihre Finanzierungsmöglichkeiten erweitern möchte
 n. Mit Hinweisen für die Recherche und erfolgversprechenden Adressen für d
 ie (ersten) Antragstellungen.\n \n Zur Anmeldung<br /><br />Veranstaltungs
 ort: <br />digitale Veranstaltung<br /><br />Veranstalter: <br />Servicest
 elle Fundraising und Beziehungspflege<br />Blumenstraße 1-7<br />76133 Kar
 lsruhe<br />Telefon: 0721 91 75 811<br />Telefax: 0721 91 75 25 820<br />h
 ttp://www.ekiba.de/fundraising
END:VEVENT
END:VCALENDAR
