BEGIN:VCALENDAR
VERSION:2.0
PRODID:-//christusgemeinden.de//NONSGML kigkonsult.se iCalcreator 2.41.92//
CALSCALE:GREGORIAN
METHOD:PUBLISH
UID:31663562-3639-4862-b034-613838396362
X-WR-TIMEZONE:Europe/Berlin
X-LIC-LOCATION:Europe/Berlin
BEGIN:VTIMEZONE
TZID:Europe/Berlin
BEGIN:DAYLIGHT
TZOFFSETFROM:+0100
TZOFFSETTO:+0200
TZNAME:CEST
DTSTART:19700329T020000
RRULE:FREQ=YEARLY;BYDAY=-1SU;BYMONTH=3
END:DAYLIGHT
BEGIN:STANDARD
TZOFFSETFROM:+0200
TZOFFSETTO:+0100
TZNAME:CET
DTSTART:19701025T030000
RRULE:FREQ=YEARLY;BYDAY=-1SU;BYMONTH=10
END:STANDARD
END:VTIMEZONE
BEGIN:VEVENT
UID:31626263-3931-4035-a133-306239616439
DTSTAMP:20260421T234135Z
DESCRIPTION:interne Veranstaltungen\n \n Weitere Termine:\n Jeden 1. Mi. im
  Monat\, 04.03.2026 - 03.06.2026\, 14:00 bis 16:00 Uhr Außer am: Mi. 03.06
 .2026\n Jeden 1. Do. im Monat\, 05.03.2026 - 04.06.2026\, 09:00 Uhr Außer 
 am: Do. 04.06.2026\n Jeden letzten Mi. im Monat\, 25.03.2026 - 24.06.2026\
 , 12:00 Uhr Außer am: Mi. 27.05.2026\n Jeden letzten Do. im Monat\, 26.03.
 2026 - 25.06.2026\, 14:00 bis 17:00 Uhr\n Mi. 20.05.2026\, 12:00 Uhr\n Mi.
  10.06.2026\, 14:00 bis 16:00 Uhr\n Do. 11.06.2026\, 09:00 Uhr\n \n Verans
 taltungsort:\n Kath. Pfarrzentrum Obergrombach\n Gustav-von-Bohlen-Strasse
  11\n 76646 Bruchsal-Obergrombach\n \n Veranstalter:\n Nachbarschaftshilfe
  Obergrombach e.V.\n 76646 Bruchsal-Obergrombach\n Telefon: 07257/4152
DTSTART;TZID=Europe/Berlin:20260430T140000
DTEND;TZID=Europe/Berlin:20260430T170000
LOCATION:Kath. Pfarrzentrum Obergrombach\n - Gustav-von-Bohlen-Strasse 11\n
  - 76646 Bruchsal-Obergrombach
SUMMARY:Spielenachmittag
X-ALT-DESC;FMTTYPE=text/html:interne Veranstaltungen<br /><br />Weitere Ter
 mine:<br />Jeden 1. Mi. im Monat\, 04.03.2026 - 03.06.2026\, 14:00 bis 16:
 00 Uhr Außer am:\n Mi. 03.06.2026<br />Jeden 1. Do. im Monat\, 05.03.2026 
 - 04.06.2026\, 09:00 Uhr Außer am:\n Do. 04.06.2026<br />Jeden letzten Mi.
  im Monat\, 25.03.2026 - 24.06.2026\, 12:00 Uhr Außer am:\n Mi. 27.05.2026
 <br />Jeden letzten Do. im Monat\, 26.03.2026 - 25.06.2026\, 14:00 bis 17:
 00 Uhr<br />Mi. 20.05.2026\, 12:00 Uhr<br />Mi. 10.06.2026\, 14:00 bis 16:
 00 Uhr<br />Do. 11.06.2026\, 09:00 Uhr<br /><br />Veranstaltungsort: <br /
 >Kath. Pfarrzentrum Obergrombach<br />Gustav-von-Bohlen-Strasse 11<br />76
 646 Bruchsal-Obergrombach<br /><br />Veranstalter: <br />Nachbarschaftshil
 fe Obergrombach e.V.<br />76646 Bruchsal-Obergrombach<br />Telefon: 07257/
 4152
END:VEVENT
END:VCALENDAR
