BEGIN:VCALENDAR
VERSION:2.0
PRODID:-//christusgemeinden.de//NONSGML kigkonsult.se iCalcreator 2.41.92//
CALSCALE:GREGORIAN
METHOD:PUBLISH
UID:37666138-3838-4639-b831-313563663030
X-WR-TIMEZONE:Europe/Berlin
X-LIC-LOCATION:Europe/Berlin
BEGIN:VTIMEZONE
TZID:Europe/Berlin
BEGIN:DAYLIGHT
TZOFFSETFROM:+0100
TZOFFSETTO:+0200
TZNAME:CEST
DTSTART:19700329T020000
RRULE:FREQ=YEARLY;BYDAY=-1SU;BYMONTH=3
END:DAYLIGHT
BEGIN:STANDARD
TZOFFSETFROM:+0200
TZOFFSETTO:+0100
TZNAME:CET
DTSTART:19701025T030000
RRULE:FREQ=YEARLY;BYDAY=-1SU;BYMONTH=10
END:STANDARD
END:VTIMEZONE
BEGIN:VEVENT
UID:31386532-3239-4465-b965-323532633439
DTSTAMP:20260422T043955Z
DESCRIPTION:Definitionen\, Instrumente\, Strategien\, Bewährtes\, Grenzen\n
  \n Dieses Webinar bietet Ihnen eine komprimierte Einführung in Fundraisin
 g. Es eignet sich ideal für alle\, die den Überblick lieben und erst einma
 l das ganze Thema kennenlernen wollen. zur Anmeldung\n \n Veranstaltungsor
 t:\n Online\n \n Veranstalter:\n Servicestelle Fundraising und Beziehungsp
 flege\n Blumenstraße 1-7\n 76133 Karlsruhe\n Telefon: 0721 91 75 811\n Tel
 efax: 0721 91 75 25 820\n http://www.ekiba.de/fundraising
DTSTART;TZID=Europe/Berlin:20260520T190000
DTEND;TZID=Europe/Berlin:20260520T213000
LOCATION:Online
SUMMARY:Fundraising für Gemeinden - kurz & knapp
X-ALT-DESC;FMTTYPE=text/html:Definitionen\, Instrumente\, Strategien\, Bewä
 hrtes\, Grenzen<br /><br />Dieses Webinar bietet Ihnen eine komprimierte E
 inführung in Fundraising. Es eignet sich ideal für alle\, die den Überblic
 k lieben und erst einmal das ganze Thema kennenlernen wollen.\n \n zur Anm
 eldung<br /><br />Veranstaltungsort: <br />Online<br /><br />Veranstalter:
  <br />Servicestelle Fundraising und Beziehungspflege<br />Blumenstraße 1-
 7<br />76133 Karlsruhe<br />Telefon: 0721 91 75 811<br />Telefax: 0721 91 
 75 25 820<br />http://www.ekiba.de/fundraising
END:VEVENT
END:VCALENDAR
