BEGIN:VCALENDAR
VERSION:2.0
PRODID:-//christusgemeinden.de//NONSGML kigkonsult.se iCalcreator 2.41.92//
CALSCALE:GREGORIAN
METHOD:PUBLISH
UID:37636264-6162-4932-b861-633730333034
X-WR-TIMEZONE:Europe/Berlin
X-LIC-LOCATION:Europe/Berlin
BEGIN:VTIMEZONE
TZID:Europe/Berlin
BEGIN:DAYLIGHT
TZOFFSETFROM:+0100
TZOFFSETTO:+0200
TZNAME:CEST
DTSTART:19700329T020000
RRULE:FREQ=YEARLY;BYDAY=-1SU;BYMONTH=3
END:DAYLIGHT
BEGIN:STANDARD
TZOFFSETFROM:+0200
TZOFFSETTO:+0100
TZNAME:CET
DTSTART:19701025T030000
RRULE:FREQ=YEARLY;BYDAY=-1SU;BYMONTH=10
END:STANDARD
END:VTIMEZONE
BEGIN:VEVENT
UID:35373337-3165-4265-b464-633166323862
DTSTAMP:20260421T140113Z
DESCRIPTION:Frauenkreis\n \n Weitere Termine:\n Mi. 06.05.2026\, 09:15 Uhr
 \n Do. 11.06.2026\, 09:15 Uhr\n Mi. 08.07.2026\, 19:00 Uhr\n Do. 10.09.202
 6\, 09:15 Uhr\n Do. 01.10.2026\, ganztägig\n Do. 05.11.2026\, 09:15 Uhr\n 
 \n Programm 2026 Frauenkreis.pdf [810.7 kB] Quelle: aw\n \n Veranstaltungs
 ort:\n bei Adelheid in Obergrombach\n \n Veranstalter:\n Frauenkreis
DTSTART;TZID=Europe/Berlin:20261209T180000
DTEND;TZID=Europe/Berlin:20261209T190000
LOCATION:bei Adelheid in Obergrombach
SUMMARY:Adventsfeier
X-ALT-DESC;FMTTYPE=text/html:Frauenkreis<br /><br />Weitere Termine:<br />M
 i. 06.05.2026\, 09:15 Uhr<br />Do. 11.06.2026\, 09:15 Uhr<br />Mi. 08.07.2
 026\, 19:00 Uhr<br />Do. 10.09.2026\, 09:15 Uhr<br />Do. 01.10.2026\, ganz
 tägig<br />Do. 05.11.2026\, 09:15 Uhr<br /><br />Programm 2026 Frauenkreis
 .pdf [810.7 kB]\n Quelle: aw<br /><br />Veranstaltungsort: <br />bei Adelh
 eid in Obergrombach<br /><br />Veranstalter: <br />Frauenkreis
END:VEVENT
END:VCALENDAR
