BEGIN:VCALENDAR
VERSION:2.0
PRODID:-//christusgemeinden.de//NONSGML kigkonsult.se iCalcreator 2.41.92//
CALSCALE:GREGORIAN
METHOD:PUBLISH
UID:32316164-6631-4036-b935-353665343337
X-WR-TIMEZONE:Europe/Berlin
X-LIC-LOCATION:Europe/Berlin
BEGIN:VTIMEZONE
TZID:Europe/Berlin
BEGIN:DAYLIGHT
TZOFFSETFROM:+0100
TZOFFSETTO:+0200
TZNAME:CEST
DTSTART:19700329T020000
RRULE:FREQ=YEARLY;BYDAY=-1SU;BYMONTH=3
END:DAYLIGHT
BEGIN:STANDARD
TZOFFSETFROM:+0200
TZOFFSETTO:+0100
TZNAME:CET
DTSTART:19701025T030000
RRULE:FREQ=YEARLY;BYDAY=-1SU;BYMONTH=10
END:STANDARD
END:VTIMEZONE
BEGIN:VEVENT
UID:65303161-6463-4032-b436-346337313035
DTSTAMP:20260421T222133Z
DESCRIPTION:Weitere Termine:\n Do. 07.05.2026\, 09:15 Uhr\n Do. 11.06.2026\
 , 09:15 Uhr\n Mi. 08.07.2026\, 19:00 Uhr\n Do. 10.09.2026\, 09:15 Uhr\n Do
 . 01.10.2026\, ganztägig\n Mi. 09.12.2026\, 18:00 Uhr\n \n Programm 2026 F
 rauenkreis.pdf [810.7 kB] Quelle: aw\n \n Veranstaltungsort:\n Gustav-Adol
 f-Kirche\n Bruchsaler Straße 63\n Bruchsal-Untergrombach\n \n Veranstalter
 :\n Frauenkreis
DTSTART;TZID=Europe/Berlin:20261105T091500
DTEND;TZID=Europe/Berlin:20261105T101500
LOCATION:Gustav-Adolf-Kirche\n - Bruchsaler Straße 63\n - Bruchsal-Untergro
 mbach
SUMMARY:„Ich lebe mein Leben in wachsenden Ringen…“ Rainer Maria Rilke
X-ALT-DESC;FMTTYPE=text/html:Weitere Termine:<br />Do. 07.05.2026\, 09:15 U
 hr<br />Do. 11.06.2026\, 09:15 Uhr<br />Mi. 08.07.2026\, 19:00 Uhr<br />Do
 . 10.09.2026\, 09:15 Uhr<br />Do. 01.10.2026\, ganztägig<br />Mi. 09.12.20
 26\, 18:00 Uhr<br /><br />Programm 2026 Frauenkreis.pdf [810.7 kB]\n Quell
 e: aw<br /><br />Veranstaltungsort: <br />Gustav-Adolf-Kirche<br />Bruchsa
 ler Straße 63<br />Bruchsal-Untergrombach<br /><br />Veranstalter: <br />F
 rauenkreis
END:VEVENT
END:VCALENDAR
