BEGIN:VCALENDAR
VERSION:2.0
PRODID:-//christusgemeinden.de//NONSGML kigkonsult.se iCalcreator 2.41.92//
CALSCALE:GREGORIAN
METHOD:PUBLISH
UID:34323131-6661-4430-b865-326265633533
X-WR-TIMEZONE:Europe/Berlin
X-LIC-LOCATION:Europe/Berlin
BEGIN:VTIMEZONE
TZID:Europe/Berlin
BEGIN:DAYLIGHT
TZOFFSETFROM:+0100
TZOFFSETTO:+0200
TZNAME:CEST
DTSTART:19700329T020000
RRULE:FREQ=YEARLY;BYDAY=-1SU;BYMONTH=3
END:DAYLIGHT
BEGIN:STANDARD
TZOFFSETFROM:+0200
TZOFFSETTO:+0100
TZNAME:CET
DTSTART:19701025T030000
RRULE:FREQ=YEARLY;BYDAY=-1SU;BYMONTH=10
END:STANDARD
END:VTIMEZONE
BEGIN:VEVENT
UID:39323733-6463-4135-b937-316230303130
DTSTAMP:20260421T172926Z
DESCRIPTION:Näheres wird noch bekanntgegeben\n \n Frauenkreis\n \n Weitere 
 Termine:\n Do. 07.05.2026\, 09:15 Uhr\n Do. 11.06.2026\, 09:15 Uhr\n Mi. 0
 8.07.2026\, 19:00 Uhr\n Do. 10.09.2026\, 09:15 Uhr\n Do. 05.11.2026\, 09:1
 5 Uhr\n Mi. 09.12.2026\, 18:00 Uhr\n \n Programm 2026 Frauenkreis.pdf [810
 .7 kB] Quelle: aw\n \n Veranstaltungsort:\n Rastatt\n \n Veranstalter:\n F
 rauenkreis
DTSTART;VALUE=DATE:20261001
DTEND;VALUE=DATE:20261002
LOCATION:Rastatt
SUMMARY:Besuch im 'Freiheitsmuseum'\, Scloss Rastatt
X-ALT-DESC;FMTTYPE=text/html:Näheres wird noch bekanntgegeben<br /><br />Fr
 auenkreis<br /><br />Weitere Termine:<br />Do. 07.05.2026\, 09:15 Uhr<br /
 >Do. 11.06.2026\, 09:15 Uhr<br />Mi. 08.07.2026\, 19:00 Uhr<br />Do. 10.09
 .2026\, 09:15 Uhr<br />Do. 05.11.2026\, 09:15 Uhr<br />Mi. 09.12.2026\, 18
 :00 Uhr<br /><br />Programm 2026 Frauenkreis.pdf [810.7 kB]\n Quelle: aw<b
 r /><br />Veranstaltungsort: <br />Rastatt<br /><br />Veranstalter: <br />
 Frauenkreis
END:VEVENT
END:VCALENDAR
