BEGIN:VCALENDAR
VERSION:2.0
PRODID:-//christusgemeinden.de//NONSGML kigkonsult.se iCalcreator 2.41.92//
CALSCALE:GREGORIAN
METHOD:PUBLISH
UID:31373162-6263-4162-b235-383363313262
X-WR-TIMEZONE:Europe/Berlin
X-LIC-LOCATION:Europe/Berlin
BEGIN:VTIMEZONE
TZID:Europe/Berlin
BEGIN:DAYLIGHT
TZOFFSETFROM:+0100
TZOFFSETTO:+0200
TZNAME:CEST
DTSTART:19700329T020000
RRULE:FREQ=YEARLY;BYDAY=-1SU;BYMONTH=3
END:DAYLIGHT
BEGIN:STANDARD
TZOFFSETFROM:+0200
TZOFFSETTO:+0100
TZNAME:CET
DTSTART:19701025T030000
RRULE:FREQ=YEARLY;BYDAY=-1SU;BYMONTH=10
END:STANDARD
END:VTIMEZONE
BEGIN:VEVENT
UID:61656362-3464-4339-b739-633239623033
DTSTAMP:20260421T140118Z
DESCRIPTION:Frauenkreis\n \n Leitung: Rosemarie Majewski\n \n Weitere Termi
 ne:\n Mi. 06.05.2026\, 09:15 Uhr\n Do. 11.06.2026\, 09:15 Uhr\n Mi. 08.07.
 2026\, 19:00 Uhr\n Do. 01.10.2026\, ganztägig\n Do. 05.11.2026\, 09:15 Uhr
 \n Mi. 09.12.2026\, 18:00 Uhr\n \n Programm 2026 Frauenkreis.pdf [810.7 kB
 ] Quelle: aw\n \n Veranstaltungsort:\n Gustav-Adolf-Kirche\n Giebelzimmer
 \n Bruchsaler Straße 63\n 76646 Bruchsal-Untergrombach\n \n Veranstalter:
 \n Frauenkreis
DTSTART;TZID=Europe/Berlin:20260910T091500
DTEND;TZID=Europe/Berlin:20260910T101500
LOCATION:Gustav-Adolf-Kirche\n - Giebelzimmer\n - Bruchsaler Straße 63\n - 
 76646 Bruchsal-Untergrombach
SUMMARY:Buchvorstellung
X-ALT-DESC;FMTTYPE=text/html:Frauenkreis<br /><br />Leitung: Rosemarie Maje
 wski<br /><br />Weitere Termine:<br />Mi. 06.05.2026\, 09:15 Uhr<br />Do. 
 11.06.2026\, 09:15 Uhr<br />Mi. 08.07.2026\, 19:00 Uhr<br />Do. 01.10.2026
 \, ganztägig<br />Do. 05.11.2026\, 09:15 Uhr<br />Mi. 09.12.2026\, 18:00 U
 hr<br /><br />Programm 2026 Frauenkreis.pdf [810.7 kB]\n Quelle: aw<br /><
 br />Veranstaltungsort: <br />Gustav-Adolf-Kirche<br />Giebelzimmer<br />B
 ruchsaler Straße 63<br />76646 Bruchsal-Untergrombach<br /><br />Veranstal
 ter: <br />Frauenkreis
END:VEVENT
END:VCALENDAR
