BEGIN:VCALENDAR
VERSION:2.0
PRODID:-//christusgemeinden.de//NONSGML kigkonsult.se iCalcreator 2.41.92//
CALSCALE:GREGORIAN
METHOD:PUBLISH
UID:62633963-6633-4462-b662-393930383235
X-WR-TIMEZONE:Europe/Berlin
X-LIC-LOCATION:Europe/Berlin
BEGIN:VTIMEZONE
TZID:Europe/Berlin
BEGIN:DAYLIGHT
TZOFFSETFROM:+0100
TZOFFSETTO:+0200
TZNAME:CEST
DTSTART:19700329T020000
RRULE:FREQ=YEARLY;BYDAY=-1SU;BYMONTH=3
END:DAYLIGHT
BEGIN:STANDARD
TZOFFSETFROM:+0200
TZOFFSETTO:+0100
TZNAME:CET
DTSTART:19701025T030000
RRULE:FREQ=YEARLY;BYDAY=-1SU;BYMONTH=10
END:STANDARD
END:VTIMEZONE
BEGIN:VEVENT
UID:65346539-6339-4033-b831-656432653539
DTSTAMP:20260422T013424Z
DESCRIPTION:Kirchenforum Digitalisierung kompakt\n \n Maximilian Heßlein (W
 irtschafts- und Sozialpfarrer beim KDA Kirchlicher Dienst in der Arbeitswe
 lt)\n \n Veranstaltungsort:\n digitale Veranstaltung\n \n Veranstalter:\n 
 Evangelische Akademie Baden\n Blumenstraße 1-7\n 76133 Karlsruhe\n www.ev-
 akademie-baden.de
DTSTART;TZID=Europe/Berlin:20260721T180000
DTEND;TZID=Europe/Berlin:20260721T190000
LOCATION:digitale Veranstaltung
SUMMARY:Chance oder Bedrohung? - KI und die Auswirkungen auf Arbeitsplatzsi
 cherheit\, Arbeitsschutz und Arbeitnehmerrechte
X-ALT-DESC;FMTTYPE=text/html:Kirchenforum Digitalisierung kompakt<br /><br 
 />Maximilian Heßlein (Wirtschafts- und Sozialpfarrer beim KDA Kirchlicher 
 Dienst in der Arbeitswelt)<br /><br />Veranstaltungsort: <br />digitale Ve
 ranstaltung<br /><br />Veranstalter: <br />Evangelische Akademie Baden<br 
 />Blumenstraße 1-7<br />76133 Karlsruhe<br />www.ev-akademie-baden.de
END:VEVENT
END:VCALENDAR
