BEGIN:VCALENDAR
VERSION:2.0
PRODID:-//christusgemeinden.de//NONSGML kigkonsult.se iCalcreator 2.41.92//
CALSCALE:GREGORIAN
METHOD:PUBLISH
UID:39626164-6663-4731-b132-353836356335
X-WR-TIMEZONE:Europe/Berlin
X-LIC-LOCATION:Europe/Berlin
BEGIN:VTIMEZONE
TZID:Europe/Berlin
BEGIN:DAYLIGHT
TZOFFSETFROM:+0100
TZOFFSETTO:+0200
TZNAME:CEST
DTSTART:19700329T020000
RRULE:FREQ=YEARLY;BYDAY=-1SU;BYMONTH=3
END:DAYLIGHT
BEGIN:STANDARD
TZOFFSETFROM:+0200
TZOFFSETTO:+0100
TZNAME:CET
DTSTART:19701025T030000
RRULE:FREQ=YEARLY;BYDAY=-1SU;BYMONTH=10
END:STANDARD
END:VTIMEZONE
BEGIN:VEVENT
UID:37306664-6537-4132-a131-333566636632
DTSTAMP:20260422T105635Z
DESCRIPTION:Kirchenforum Digitalisierung kompakt\n \n Marc Ringswald (Proje
 ktleitung Digitale Transformation der EKIBA)\n \n Veranstaltungsort:\n dig
 itale Veranstaltung\n \n Veranstalter:\n Evangelische Akademie Baden\n Blu
 menstraße 1-7\n 76133 Karlsruhe\n www.ev-akademie-baden.de
DTSTART;TZID=Europe/Berlin:20260616T180000
DTEND;TZID=Europe/Berlin:20260616T190000
LOCATION:digitale Veranstaltung
SUMMARY:Mein Start in die KI-Welt: Halleluja\, die KI hilft mir!? KI-Einsat
 zmöglichkeiten für die EKIBA
X-ALT-DESC;FMTTYPE=text/html:Kirchenforum Digitalisierung kompakt<br /><br 
 />Marc Ringswald (Projektleitung Digitale Transformation der EKIBA)<br /><
 br />Veranstaltungsort: <br />digitale Veranstaltung<br /><br />Veranstalt
 er: <br />Evangelische Akademie Baden<br />Blumenstraße 1-7<br />76133 Kar
 lsruhe<br />www.ev-akademie-baden.de
END:VEVENT
END:VCALENDAR
