BEGIN:VCALENDAR
VERSION:2.0
PRODID:-//christusgemeinden.de//NONSGML kigkonsult.se iCalcreator 2.41.92//
CALSCALE:GREGORIAN
METHOD:PUBLISH
UID:32613262-6237-4462-b963-623735656465
X-WR-TIMEZONE:Europe/Berlin
X-LIC-LOCATION:Europe/Berlin
BEGIN:VTIMEZONE
TZID:Europe/Berlin
BEGIN:DAYLIGHT
TZOFFSETFROM:+0100
TZOFFSETTO:+0200
TZNAME:CEST
DTSTART:19700329T020000
RRULE:FREQ=YEARLY;BYDAY=-1SU;BYMONTH=3
END:DAYLIGHT
BEGIN:STANDARD
TZOFFSETFROM:+0200
TZOFFSETTO:+0100
TZNAME:CET
DTSTART:19701025T030000
RRULE:FREQ=YEARLY;BYDAY=-1SU;BYMONTH=10
END:STANDARD
END:VTIMEZONE
BEGIN:VEVENT
UID:35396366-3934-4662-b162-383063643861
DTSTAMP:20260422T121309Z
DESCRIPTION:Kirchenforum Digitalisierung kompakt\n \n Dr. Heike Gundacker (
 Internetbeauftragte) Monika Hautzinger (Pfarrerin & theologische Internetr
 edakteurin)\n \n Veranstaltungsort:\n digitale Veranstaltung\n \n Veransta
 lter:\n Evangelische Akademie Baden\n Blumenstraße 1-7\n 76133 Karlsruhe\n
  www.ev-akademie-baden.de
DTSTART;TZID=Europe/Berlin:20260507T180000
DTEND;TZID=Europe/Berlin:20260507T190000
LOCATION:digitale Veranstaltung
SUMMARY:So nutzen wir KI in der (landes)kirchlichen Social-Media-Arbeit
X-ALT-DESC;FMTTYPE=text/html:Kirchenforum Digitalisierung kompakt<br /><br 
 />Dr. Heike Gundacker (Internetbeauftragte)\n Monika Hautzinger (Pfarrerin
  & theologische Internetredakteurin)<br /><br />Veranstaltungsort: <br />d
 igitale Veranstaltung<br /><br />Veranstalter: <br />Evangelische Akademie
  Baden<br />Blumenstraße 1-7<br />76133 Karlsruhe<br />www.ev-akademie-bad
 en.de
END:VEVENT
END:VCALENDAR
